Workbook

Sheet 1ST QRT 
A1: FEDERAL AIRPORTS AUTHORITY OF NIGERIA
A2: PASSENGER TRAFFIC FIRST QUARTER 2018
A3: AIRPORT | B3: JANUARY | D3: FEBRUARY | F3: MARCH | H3: TOTAL | J3: GRAND
B4: ARRIVAL | C4: DEPARTURE | D4: ARRIVAL | E4: DEPARTURE | F4: ARRIVAL | G4: DEPARTURE | H4: ARRIVAL | I4: DEPARTURE | J4: TOTAL | K4: 2017 1ST QTR | L4: Y-on-Y
A5: ABUJA DOM | B5: 138133 | C5: 125492 | D5: 129316 | E5: 119547 | F5: 156045 | G5: 153528 | H5: =B5+D5+F5 -> 423494 | I5: =C5+E5+G5 -> 398567 | J5: =H5+I5 -> 822061 | K5: 500252
A6: INT | B6: 40619 | C6: 35208 | D6: 26355 | E6: 28353 | F6: 32158 | G6: 37152 | H6: =B6+D6+F6 -> 99132 | I6: =C6+E6+G6 -> 100713 | J6: =H6+I6 -> 199845 | K6: 127137 | L6: =(J6-K6)/K6*100 -> 57.188702
A7: AKURE | B7: 1016 | C7: 838 | D7: 1610 | E7: 1735 | F7: 1856 | G7: 1939 | H7: =B7+D7+F7 -> 4482 | I7: =C7+E7+G7 -> 4512 | J7: =H7+I7 -> 8994 | K7: 2245 | L7: =(J7-K7)/K7*100 -> 300.62361
A8: BENIN | B8: 8906 | C8: 9428 | D8: 12029 | E8: 12261 | F8: 13496 | G8: 13401 | H8: =B8+D8+F8 -> 34431 | I8: =C8+E8+G8 -> 35090 | J8: =H8+I8 -> 69521 | K8: 47806 | L8: =(J8-K8)/K8*100 -> 45.423169
A9: CALABAR DOM | B9: 4003 | C9: 4570 | D9: 6371 | E9: 6481 | F9: 7231 | G9: 7189 | H9: =B9+D9+F9 -> 17605 | I9: =C9+E9+G9 -> 18240 | J9: =H9+I9 -> 35845 | K9: 35077 | L9: =(J9-K9)/K9*100 -> 2.1894689
A10: INT | B10: 0 | C10: 0 | D10: 0 | E10: 0 | F10: 0 | G10: 0 | H10: =B10+D10+F10 -> 0 | I10: =C10+E10+G10 -> 0 | J10: =H10+I10 -> 0 | K10: 0
A11: ENUGU | B11: 9212 | C11: 12832 | D11: 9055 | E11: 8971 | F11: 14906 | G11: 13403 | H11: =B11+D11+F11 -> 33173 | I11: =C11+E11+G11 -> 35206 | J11: =H11+I11 -> 68379 | K11: 64024 | L11: =(J11-K11)/K11*100 -> 6.8021367
A12: INT | B12: 2035 | C12: 3143 | D12: 812 | E12: 929 | F12: 1724 | G12: 2125 | H12: =B12+D12+F12 -> 4571 | I12: =C12+E12+G12 -> 6197 | J12: =H12+I12 -> 10768 | K12: 8964 | L12: =(J12-K12)/K12*100 -> 20.124944
A13: IBADAN | B13: 2088 | C13: 2201 | D13: 2218 | E13: 2234 | F13: 2959 | G13: 2886 | H13: =B13+D13+F13 -> 7265 | I13: =C13+E13+G13 -> 7321 | J13: =H13+I13 -> 14586 | K13: 9985 | L13: =(J13-K13)/K13*100 -> 46.079119
A14: ILORIN DOM | B14: 3044 | C14: 2820 | D14: 3307 | E14: 3462 | F14: 3759 | G14: 3517 | H14: =B14+D14+F14 -> 10110 | I14: =C14+E14+G14 -> 9799 | J14: =H14+I14 -> 19909 | K14: 13424 | L14: =(J14-K14)/K14*100 -> 48.308999
A15: INT | B15: 0 | C15: 0 | D15: 0 | E15: 0 | F15: 0 | G15: 0 | H15: =B15+D15+F15 -> 0 | I15: =C15+E15+G15 -> 0 | J15: =H15+I15 -> 0 | K15: 0
A16: JOS DOM | B16: 2110 | C16: 1962 | D16: 1855 | E16: 1909 | F16: 2465 | G16: 2230 | H16: =B16+D16+F16 -> 6430 | I16: =C16+E16+G16 -> 6101 | J16: =H16+I16 -> 12531 | K16: 9323 | L16: =(J16-K16)/K16*100 -> 34.409525
A17: INT | B17: 0 | C17: 0 | D17: 0 | E17: 0
A18: KADUNA DOM | B18: 5506 | C18: 5781 | D18: 1854 | E18: 5176 | F18: 6188 | G18: 6061 | H18: =B18+D18+F18 -> 13548 | I18: =C18+E18+G18 -> 17018 | J18: =H18+I18 -> 30566 | K18: 124996 | L18: =(J18-K18)/K18*100 -> -75.546417
A19: INT | H19: =B19+D19+F19 -> 0 | I19: =C19+E19+G19 -> 0 | J19: =H19+I19 -> 0 | K19: 0
A20: SOKOTO DOM | B20: 2902 | C20: 2735 | D20: 2988 | E20: 3342 | F20: 3985 | G20: 3754 | H20: =B20+D20+F20 -> 9875 | I20: =C20+E20+G20 -> 9831 | J20: =H20+I20 -> 19706 | K20: 9932 | L20: =(J20-K20)/K20*100 -> 98.409182
A21: INT | B21: 0 | C21: 0 | D21: 0 | E21: 0 | H21: =B21+D21+F21 -> 0 | I21: =C21+E21+G21 -> 0 | J21: =H21+I21 -> 0 | K21: 0
A22: KANO DOM | B22: 10622 | C22: 10597 | D22: 11627 | E22: 11451 | F22: 16266 | G22: 16254 | H22: =B22+D22+F22 -> 38515 | I22: =C22+E22+G22 -> 38302 | J22: =H22+I22 -> 76817 | K22: 50402 | L22: =(J22-K22)/K22*100 -> 52.408635
A23: INT | B23: 8454 | C23: 6246 | D23: 5330 | E23: 4987 | F23: 6148 | G23: 6302 | H23: =B23+D23+F23 -> 19932 | I23: =C23+E23+G23 -> 17535 | J23: =H23+I23 -> 37467 | K23: 42434 | L23: =(J23-K23)/K23*100 -> -11.705236
A24: MAID DOM | B24: 6861 | C24: 6863 | D24: 6237 | E24: 5786 | F24: 8653 | G24: 8802 | H24: =B24+D24+F24 -> 21751 | I24: =C24+E24+G24 -> 21451 | J24: =H24+I24 -> 43202 | K24: 27446 | L24: =(J24-K24)/K24*100 -> 57.407272
A25: INT | F25: 0 | G25: 0 | H25: =B25+D25+F25 -> 0 | I25: =C25+E25+G25 -> 0 | J25: =H25+I25 -> 0 | K25: 0
A26: MAKURDI DOM | B26: 65 | C26: 69 | D26: 84 | E26: 79 | F26: 25 | G26: 20 | H26: =B26+D26+F26 -> 174 | I26: =C26+E26+G26 -> 168 | J26: =H26+I26 -> 342 | K26: 0
A27: INT | B27: 0 | C27: 0 | D27: 0 | E27: 0
A28: MMIA DOM | B28: 136037 | C28: 132176 | D28: 119081 | E28: 117248 | F28: 271145 | G28: 399256 | H28: =B28+D28+F28 -> 526263 | I28: =C28+E28+G28 -> 648680 | J28: =H28+I28 -> 1174943 | K28: 784728 | L28: =(J28-K28)/K28*100 -> 49.726147
A29: INT | B29: 155139 | C29: 129418 | D29: 77311 | E29: 87549 | F29: 174235 | G29: 174402 | H29: =B29+D29+F29 -> 406685 | I29: =C29+E29+G29 -> 391369 | J29: =H29+I29 -> 798054 | K29: 663330 | L29: =(J29-K29)/K29*100 -> 20.310253
A30: P.H. DOM | B30: 36973 | C30: 37601 | D30: 38505 | E30: 38780 | F30: 42705 | G30: 41766 | H30: =B30+D30+F30 -> 118183 | I30: =C30+E30+G30 -> 118147 | J30: =H30+I30 -> 236330 | K30: 189079 | L30: =(J30-K30)/K30*100 -> 24.990084
A31: INT | B31: 4529 | C31: 4299 | D31: 2705 | E31: 2594 | F31: 3188 | G31: 2949 | H31: =B31+D31+F31 -> 10422 | I31: =C31+E31+G31 -> 9842 | J31: =H31+I31 -> 20264 | K31: 21110 | L31: =(J31-K31)/K31*100 -> -4.0075793
A32: YOLA DOM | B32: 5065 | C32: 6051 | D32: 4926 | E32: 5376 | F32: 7194 | G32: 7112 | H32: =B32+D32+F32 -> 17185 | I32: =C32+E32+G32 -> 18539 | J32: =H32+I32 -> 35724 | K32: 28171 | L32: =(J32-K32)/K32*100 -> 26.81126
A33: INT | B33: 0 | C33: 0 | D33: 0 | E33: 0 | H33: =B33+D33+F33 -> 0 | I33: =C33+E33+G33 -> 0 | J33: =H33+I33 -> 0 | K33: 0
A34: MINNA DOM | H34: =B34+D34+F34 -> 0 | I34: =C34+E34+G34 -> 0 | J34: =H34+I34 -> 0 | K34: 1368
A35: INT | H35: =B35+D35+F35 -> 0 | I35: =C35+E35+G35 -> 0 | J35: =H35+I35 -> 0 | K35: 0
A36: KATSINA | B36: 78 | C36: 59 | D36: 118 | E36: 118 | F36: 36 | G36: 36 | H36: =B36+D36+F36 -> 232 | I36: =C36+E36+G36 -> 213 | J36: =H36+I36 -> 445 | K36: 510 | L36: =(J36-K36)/K36*100 -> -12.745098
A37: INT | B37: 0 | C37: 0 | D37: 0 | E37: 0 | F37: 0 | G37: 0 | H37: =B37+D37+F37 -> 0 | I37: =C37+E37+G37 -> 0 | J37: =H37+I37 -> 0 | K37: 0
A38: OWERRI | B38: 11881 | C38: 18050 | D38: 19390 | E38: 19460 | F38: 21241 | G38: 19532 | H38: =B38+D38+F38 -> 52512 | I38: =C38+E38+G38 -> 57042 | J38: =H38+I38 -> 109554 | K38: 87908 | L38: =(J38-K38)/K38*100 -> 24.62347
A39: OSUBI | B39: 0 | C39: 0 | D39: 0 | E39: 0 | H39: =B39+D39+F39 -> 0 | I39: =C39+E39+G39 -> 0 | J39: =H39+I39 -> 0 | K39: 30843 | L39: =(J39-K39)/K39*100 -> -100
A40: TOTAL DOM | B40: =B39+B38+B36+B34+B32+B30+B28+B26+B24+B22+B20+B18+B16+B14+B13+B11+B9+B8+B7+B5 -> 384502 | C40: =C39+C38+C36+C34+C32+C30+C28+C26+C24+C22+C20+C18+C16+C14+C13+C11+C9+C8+C7+C5 -> 380125 | D40: =D39+D38+D36+D34+D32+D30+D28+D26+D24+D22+D20+D18+D16+D14+D13+D11+D9+D8+D7+D5 -> 370571 | E40: =E39+E38+E36+E34+E32+E30+E28+E26+E24+E22+E20+E18+E16+E14+E13+E11+E9+E8+E7+E5 -> 363416 | F40: =F39+F38+F36+F34+F32+F30+F28+F26+F24+F22+F20+F18+F16+F14+F13+F11+F9+F8+F7+F5 -> 580155 | G40: =G39+G38+G36+G34+G32+G30+G28+G26+G24+G22+G20+G18+G16+G14+G13+G11+G9+G8+G7+G5 -> 700686 | H40: =H39+H38+H36+H34+H32+H30+H28+H26+H24+H22+H20+H18+H16+H14+H13+H11+H9+H8+H7+H5 -> 1335228 | I40: =I39+I38+I36+I34+I32+I30+I28+I26+I24+I22+I20+I18+I16+I14+I13+I11+I9+I8+I7+I5 -> 1444227 | J40: =J39+J38+J36+J34+J32+J30+J28+J26+J24+J22+J20+J18+J16+J14+J13+J11+J9+J8+J7+J5 -> 2779455 | K40: 2017519 | L40: =(J40-K40)/K40*100 -> 37.765989
...

Sheet 2ND QRT 
A1: FEDERAL AIRPORTS AUTHORITY OF NIGERIA
A2: PROVISIONAL PASSENGER TRAFFIC SECOND QUARTER 2018
A3: AIRPORT | B3: APRIL | D3: MAY | F3: JUNE | H3: TOTAL | J3: GRAND | K3: 2017 2ND QTR | L3: Y-on-Y
B4: ARRIVAL | C4: DEPARTURE | D4: ARRIVAL | E4: DEPARTURE | F4: ARRIVAL | G4: DEPARTURE | H4: ARRIVAL | I4: DEPARTURE | J4: TOTAL
A5: ABUJA DOM | B5: 159801 | C5: 157481 | D5: 156755 | E5: 143331 | F5: 137909 | G5: 133434 | H5: =B5+D5+F5 -> 454465 | I5: =C5+E5+G5 -> 434246 | J5: =H5+I5 -> 888711 | K5: 577386 | L5: =(J5-K5)/K5*100 -> 53.919735
A6: INT | B6: 39712 | C6: 40064 | D6: 36313 | E6: 37020 | F6: 37682 | G6: 39044 | H6: =B6+D6+F6 -> 113707 | I6: =C6+E6+G6 -> 116128 | J6: =H6+I6 -> 229835 | K6: 142958 | L6: =(J6-K6)/K6*100 -> 60.770996
A7: AKURE | B7: 2072 | C7: 1979 | D7: 2072 | E7: 1979 | F7: 2214 | G7: 2112 | H7: =B7+D7+F7 -> 6358 | I7: =C7+E7+G7 -> 6070 | J7: =H7+I7 -> 12428 | K7: 2242 | L7: =(J7-K7)/K7*100 -> 454.32649
A8: BENIN | B8: 13661 | C8: 14499 | D8: 13011 | E8: 12944 | F8: 12435 | G8: 12597 | H8: =B8+D8+F8 -> 39107 | I8: =C8+E8+G8 -> 40040 | J8: =H8+I8 -> 79147 | K8: 57405 | L8: =(J8-K8)/K8*100 -> 37.87475
A9: CALABAR DOM | B9: 7523 | C9: 7604 | D9: 7452 | E9: 7632 | F9: 6128 | G9: 6243 | H9: =B9+D9+F9 -> 21103 | I9: =C9+E9+G9 -> 21479 | J9: =H9+I9 -> 42582 | K9: 37034 | L9: =(J9-K9)/K9*100 -> 14.980828
A10: INT | H10: =B10+D10+F10 -> 0 | I10: =C10+E10+G10 -> 0 | J10: =H10+I10 -> 0 | K10: 0
A11: ENUGU | B11: 14924 | C11: 16160 | D11: 13829 | E11: 14206 | F11: 12071 | G11: 12456 | H11: =B11+D11+F11 -> 40824 | I11: =C11+E11+G11 -> 42822 | J11: =H11+I11 -> 83646 | K11: 64670 | L11: =(J11-K11)/K11*100 -> 29.342817
A12: ENUGU INT | B12: 1708 | C12: 1797 | D12: 1734 | E12: 1922 | F12: 1639 | G12: 1731 | H12: =B12+D12+F12 -> 5081 | I12: =C12+E12+G12 -> 5450 | J12: =H12+I12 -> 10531 | K12: 10168 | L12: =(J12-K12)/K12*100 -> 3.5700236
A13: IBADAN | B13: 2621 | C13: 2833 | D13: 2392 | E13: 2480 | F13: 2590 | G13: 2512 | H13: =B13+D13+F13 -> 7603 | I13: =C13+E13+G13 -> 7825 | J13: =H13+I13 -> 15428 | K13: 14246 | L13: =(J13-K13)/K13*100 -> 8.2970658
A14: ILORIN DOM | B14: 3789 | C14: 3678 | D14: 3312 | E14: 3282 | F14: 3274 | G14: 3479 | H14: =B14+D14+F14 -> 10375 | I14: =C14+E14+G14 -> 10439 | J14: =H14+I14 -> 20814 | K14: 18961 | L14: =(J14-K14)/K14*100 -> 9.7726913
A15: INT | B15: 0 | C15: 0 | H15: =B15+D15+F15 -> 0 | I15: =C15+E15+G15 -> 0 | J15: =H15+I15 -> 0 | K15: 0
A16: JOS DOM | B16: 2546 | C16: 2518 | D16: 2628 | E16: 2448 | F16: 2546 | G16: 2339 | H16: =B16+D16+F16 -> 7720 | I16: =C16+E16+G16 -> 7305 | J16: =H16+I16 -> 15025 | K16: 14651 | L16: =(J16-K16)/K16*100 -> 2.5527268
A17: INT
A18: KADUNA DOM | B18: 7141 | C18: 7397 | D18: 4935 | E18: 5220 | F18: 4369 | G18: 4401 | H18: =B18+D18+F18 -> 16445 | I18: =C18+E18+G18 -> 17018 | J18: =H18+I18 -> 33463 | K18: 129034 | L18: =(J18-K18)/K18*100 -> -74.066525
A19: INT | B19: 430 | C19: 721 | D19: 352 | E19: 713 | H19: =B19+D19+F19 -> 782 | I19: =C19+E19+G19 -> 1434 | J19: =H19+I19 -> 2216 | K19: 0
A20: SOKOTO DOM | B20: 4037 | C20: 4172 | D20: 3453 | E20: 3635 | F20: 3657 | G20: 3378 | H20: =B20+D20+F20 -> 11147 | I20: =C20+E20+G20 -> 11185 | J20: =H20+I20 -> 22332 | K20: 17167 | L20: =(J20-K20)/K20*100 -> 30.086794
A21: INT | H21: =B21+D21+F21 -> 0 | I21: =C21+E21+G21 -> 0 | J21: =H21+I21 -> 0 | K21: 0
A22: KANO DOM | B22: 15714 | C22: 15889 | D22: 14862 | E22: 14930 | F22: 13918 | G22: 12891 | H22: =B22+D22+F22 -> 44494 | I22: =C22+E22+G22 -> 43710 | J22: =H22+I22 -> 88204 | K22: 58430 | L22: =(J22-K22)/K22*100 -> 50.9567
A23: INT | B23: 7152 | C23: 7066 | D23: 7474 | E23: 11922 | F23: 16085 | G23: 9168 | H23: =B23+D23+F23 -> 30711 | I23: =C23+E23+G23 -> 28156 | J23: =H23+I23 -> 58867 | K23: 60328 | L23: =(J23-K23)/K23*100 -> -2.421761
A24: MAID DOM | B24: 7079 | C24: 7016 | D24: 9321 | E24: 9789 | F24: 6660 | G24: 6460 | H24: =B24+D24+F24 -> 23060 | I24: =C24+E24+G24 -> 23265 | J24: =H24+I24 -> 46325 | K24: 33152 | L24: =(J24-K24)/K24*100 -> 39.735159
A25: INT | H25: =B25+D25+F25 -> 0 | I25: =C25+E25+G25 -> 0 | J25: =H25+I25 -> 0 | K25: 0
A26: MAKURDI | B26: 13 | C26: 20 | D26: 33 | E26: 20 | F26: 0 | G26: 0 | H26: =B26+D26+F26 -> 46 | I26: =C26+E26+G26 -> 40 | J26: =H26+I26 -> 86 | K26: 0
A27: INT
A28: MMIA DOM | B28: 159837 | C28: 156229 | D28: 147068 | E28: 147702 | F28: 133698 | G28: 139636 | H28: =B28+D28+F28 -> 440603 | I28: =C28+E28+G28 -> 443567 | J28: =H28+I28 -> 884170 | K28: 859306 | L28: =(J28-K28)/K28*100 -> 2.8934978
A29: INT | B29: 112431 | C29: 124047 | D29: 104797 | E29: 112244 | F29: 110310 | G29: 116855 | H29: =B29+D29+F29 -> 327538 | I29: =C29+E29+G29 -> 353146 | J29: =H29+I29 -> 680684 | K29: 692207 | L29: =(J29-K29)/K29*100 -> -1.6646755
A30: P.H. DOM | B30: 42559 | C30: 42076 | D30: 40555 | E30: 40644 | F30: 38705 | G30: 38065 | H30: =B30+D30+F30 -> 121819 | I30: =C30+E30+G30 -> 120785 | J30: =H30+I30 -> 242604 | K30: 199001 | L30: =(J30-K30)/K30*100 -> 21.910945
A31: INT | B31: 3448 | C31: 4376 | D31: 3592 | E31: 3492 | F31: 3142 | G31: 3682 | H31: =B31+D31+F31 -> 10182 | I31: =C31+E31+G31 -> 11550 | J31: =H31+I31 -> 21732 | K31: 20262 | L31: =(J31-K31)/K31*100 -> 7.25496
A32: YOLA DOM | B32: 7723 | C32: 7713 | D32: 6243 | E32: 7267 | F32: 5660 | G32: 5405 | H32: =B32+D32+F32 -> 19626 | I32: =C32+E32+G32 -> 20385 | J32: =H32+I32 -> 40011 | K32: 32735 | L32: =(J32-K32)/K32*100 -> 22.226974
A33: INT | H33: =B33+D33+F33 -> 0 | I33: =C33+E33+G33 -> 0 | J33: =H33+I33 -> 0 | K33: 0
A34: MINNA DOM | B34: 156 | C34: 156 | D34: 172 | E34: 165 | F34: 143 | G34: 159 | H34: =B34+D34+F34 -> 471 | I34: =C34+E34+G34 -> 480 | J34: =H34+I34 -> 951 | K34: 3794 | L34: =(J34-K34)/K34*100 -> -74.934106
A35: INT | H35: =B35+D35+F35 -> 0 | I35: =C35+E35+G35 -> 0 | J35: =H35+I35 -> 0 | K35: 0
A36: KATSINA | B36: 93 | C36: 149 | D36: 59 | E36: 59 | F36: 177 | G36: 173 | H36: =B36+D36+F36 -> 329 | I36: =C36+E36+G36 -> 381 | J36: =H36+I36 -> 710 | K36: 744 | L36: =(J36-K36)/K36*100 -> -4.5698925
A37: INT | H37: =B37+D37+F37 -> 0 | I37: =C37+E37+G37 -> 0 | J37: =H37+I37 -> 0 | K37: 0
A38: OWERRI | B38: 22683 | C38: 26236 | D38: 23646 | E38: 23800 | F38: 20628 | G38: 20060 | H38: =B38+D38+F38 -> 66957 | I38: =C38+E38+G38 -> 70096 | J38: =H38+I38 -> 137053 | K38: 88699 | L38: =(J38-K38)/K38*100 -> 54.514707
A39: OSUBI | H39: =B39+D39+F39 -> 0 | I39: =C39+E39+G39 -> 0 | J39: =H39+I39 -> 0 | K39: 39245
A40: TOTAL DOM | B40: =B39+B38+B36+B34+B32+B30+B28+B26+B24+B22+B20+B18+B16+B14+B13+B11+B9+B8+B7+B5 -> 473972 | C40: =C39+C38+C36+C34+C32+C30+C28+C26+C24+C22+C20+C18+C16+C14+C13+C11+C9+C8+C7+C5 -> 473805 | D40: =D39+D38+D36+D34+D32+D30+D28+D26+D24+D22+D20+D18+D16+D14+D13+D11+D9+D8+D7+D5 -> 451798 | E40: =E39+E38+E36+E34+E32+E30+E28+E26+E24+E22+E20+E18+E16+E14+E13+E11+E9+E8+E7+E5 -> 441533 | F40: =F39+F38+F36+F34+F32+F30+F28+F26+F24+F22+F20+F18+F16+F14+F13+F11+F9+F8+F7+F5 -> 406782 | G40: =G39+G38+G36+G34+G32+G30+G28+G26+G24+G22+G20+G18+G16+G14+G13+G11+G9+G8+G7+G5 -> 405800 | H40: =H39+H38+H36+H34+H32+H30+H28+H26+H24+H22+H20+H18+H16+H14+H13+H11+H9+H8+H7+H5 -> 1332552 | I40: =I39+I38+I36+I34+I32+I30+I28+I26+I24+I22+I20+I18+I16+I14+I13+I11+I9+I8+I7+I5 -> 1321138 | J40: =J39+J38+J36+J34+J32+J30+J28+J26+J24+J22+J20+J18+J16+J14+J13+J11+J9+J8+J7+J5 -> 2653690 | K40: 2247902 | L40: =(J40-K40)/K40*100 -> 18.051855
...

Sheet Half Year 2018
A1: FEDERAL AIRPORTS AUTHORITY OF NIGERIA
A2: 2018 Half Year PASSENGERS TRAFFIC
A3: AIRPORT | B3: IST QUARTER | D3: 2ND QUARTER | F3: 3RD QUARTER | H3: TOTAL
B4: ARRIVAL | C4: DEPARTURE | D4: ARRIVAL | E4: DEPARTURE | F4: ARRIVAL | G4: DEPARTURE | H4: ARRIVAL | I4: DEPARTURE | J4: GRAND TOTAL
A5: ABUJA DOM | B5: ='1ST QRT '!H5 -> 423494 | C5: ='1ST QRT '!I5 -> 398567 | D5: ='2ND QRT '!H5 -> 454465 | E5: ='2ND QRT '!I5 -> 434246 | H5: =B5+D5+F5 -> 877959 | I5: =C5+E5+G5 -> 832813 | J5: =H5+I5 -> 1710772
A6: INT | B6: ='1ST QRT '!H6 -> 99132 | C6: ='1ST QRT '!I6 -> 100713 | D6: ='2ND QRT '!H6 -> 113707 | E6: ='2ND QRT '!I6 -> 116128 | H6: =B6+D6+F6 -> 212839 | I6: =C6+E6+G6 -> 216841 | J6: =H6+I6 -> 429680
A7: AKURE | B7: ='1ST QRT '!H7 -> 4482 | C7: ='1ST QRT '!I7 -> 4512 | D7: ='2ND QRT '!H7 -> 6358 | E7: ='2ND QRT '!I7 -> 6070 | H7: =B7+D7+F7 -> 10840 | I7: =C7+E7+G7 -> 10582 | J7: =H7+I7 -> 21422
A8: BENIN | B8: ='1ST QRT '!H8 -> 34431 | C8: ='1ST QRT '!I8 -> 35090 | D8: ='2ND QRT '!H8 -> 39107 | E8: ='2ND QRT '!I8 -> 40040 | H8: =B8+D8+F8 -> 73538 | I8: =C8+E8+G8 -> 75130 | J8: =H8+I8 -> 148668
A9: CALABAR DOM | B9: ='1ST QRT '!H9 -> 17605 | C9: ='1ST QRT '!I9 -> 18240 | D9: ='2ND QRT '!H9 -> 21103 | E9: ='2ND QRT '!I9 -> 21479 | H9: =B9+D9+F9 -> 38708 | I9: =C9+E9+G9 -> 39719 | J9: =H9+I9 -> 78427
A10: INT | B10: ='1ST QRT '!H10 -> 0 | C10: ='1ST QRT '!I10 -> 0 | D10: ='2ND QRT '!H10 -> 0 | E10: ='2ND QRT '!I10 -> 0 | H10: =B10+D10+F10 -> 0 | I10: =C10+E10+G10 -> 0 | J10: =H10+I10 -> 0
A11: ENUGU | B11: ='1ST QRT '!H11 -> 33173 | C11: ='1ST QRT '!I11 -> 35206 | D11: ='2ND QRT '!H11 -> 40824 | E11: ='2ND QRT '!I11 -> 42822 | H11: =B11+D11+F11 -> 73997 | I11: =C11+E11+G11 -> 78028 | J11: =H11+I11 -> 152025
A12: ENUGU INT | B12: ='1ST QRT '!H12 -> 4571 | C12: ='1ST QRT '!I12 -> 6197 | D12: ='2ND QRT '!H12 -> 5081 | E12: ='2ND QRT '!I12 -> 5450 | H12: =B12+D12+F12 -> 9652 | I12: =C12+E12+G12 -> 11647 | J12: =H12+I12 -> 21299
A13: IBADAN | B13: ='1ST QRT '!H13 -> 7265 | C13: ='1ST QRT '!I13 -> 7321 | D13: ='2ND QRT '!H13 -> 7603 | E13: ='2ND QRT '!I13 -> 7825 | H13: =B13+D13+F13 -> 14868 | I13: =C13+E13+G13 -> 15146 | J13: =H13+I13 -> 30014
A14: ILORIN DOM | B14: ='1ST QRT '!H14 -> 10110 | C14: ='1ST QRT '!I14 -> 9799 | D14: ='2ND QRT '!H14 -> 10375 | E14: ='2ND QRT '!I14 -> 10439 | H14: =B14+D14+F14 -> 20485 | I14: =C14+E14+G14 -> 20238 | J14: =H14+I14 -> 40723
A15: INT | B15: ='1ST QRT '!H15 -> 0 | C15: ='1ST QRT '!I15 -> 0 | D15: ='2ND QRT '!H15 -> 0 | E15: ='2ND QRT '!I15 -> 0 | H15: =B15+D15+F15 -> 0 | I15: =C15+E15+G15 -> 0 | J15: =H15+I15 -> 0
A16: JOS DOM | B16: ='1ST QRT '!H16 -> 6430 | C16: ='1ST QRT '!I16 -> 6101 | D16: ='2ND QRT '!H16 -> 7720 | E16: ='2ND QRT '!I16 -> 7305 | H16: =B16+D16+F16 -> 14150 | I16: =C16+E16+G16 -> 13406 | J16: =H16+I16 -> 27556
A17: INT | B17: ='1ST QRT '!H17 -> 0 | C17: ='1ST QRT '!I17 -> 0 | D17: ='2ND QRT '!H17 -> 0 | E17: ='2ND QRT '!I17 -> 0 | J17: =H17+I17 -> 0
A18: KADUNA DOM | B18: ='1ST QRT '!H18 -> 13548 | C18: ='1ST QRT '!I18 -> 17018 | D18: ='2ND QRT '!H18 -> 16445 | E18: ='2ND QRT '!I18 -> 17018 | H18: =B18+D18+F18 -> 29993 | I18: =C18+E18+G18 -> 34036 | J18: =H18+I18 -> 64029
A19: INT | B19: ='1ST QRT '!H19 -> 0 | C19: ='1ST QRT '!I19 -> 0 | D19: ='2ND QRT '!H19 -> 782 | E19: ='2ND QRT '!I19 -> 1434 | H19: =B19+D19+F19 -> 782 | I19: =C19+E19+G19 -> 1434 | J19: =H19+I19 -> 2216
A20: SOKOTO DOM | B20: ='1ST QRT '!H20 -> 9875 | C20: ='1ST QRT '!I20 -> 9831 | D20: ='2ND QRT '!H20 -> 11147 | E20: ='2ND QRT '!I20 -> 11185 | H20: =B20+D20+F20 -> 21022 | I20: =C20+E20+G20 -> 21016 | J20: =H20+I20 -> 42038
A21: INT | B21: ='1ST QRT '!H21 -> 0 | C21: ='1ST QRT '!I21 -> 0 | D21: ='2ND QRT '!H21 -> 0 | E21: ='2ND QRT '!I21 -> 0 | H21: =B21+D21+F21 -> 0 | I21: =C21+E21+G21 -> 0 | J21: =H21+I21 -> 0
A22: KANO DOM | B22: ='1ST QRT '!H22 -> 38515 | C22: ='1ST QRT '!I22 -> 38302 | D22: ='2ND QRT '!H22 -> 44494 | E22: ='2ND QRT '!I22 -> 43710 | H22: =B22+D22+F22 -> 83009 | I22: =C22+E22+G22 -> 82012 | J22: =H22+I22 -> 165021
A23: INT | B23: ='1ST QRT '!H23 -> 19932 | C23: ='1ST QRT '!I23 -> 17535 | D23: ='2ND QRT '!H23 -> 30711 | E23: ='2ND QRT '!I23 -> 28156 | H23: =B23+D23+F23 -> 50643 | I23: =C23+E23+G23 -> 45691 | J23: =H23+I23 -> 96334
A24: MAID DOM | B24: ='1ST QRT '!H24 -> 21751 | C24: ='1ST QRT '!I24 -> 21451 | D24: ='2ND QRT '!H24 -> 23060 | E24: ='2ND QRT '!I24 -> 23265 | H24: =B24+D24+F24 -> 44811 | I24: =C24+E24+G24 -> 44716 | J24: =H24+I24 -> 89527
A25: INT | B25: ='1ST QRT '!H25 -> 0 | C25: ='1ST QRT '!I25 -> 0 | D25: ='2ND QRT '!H25 -> 0 | E25: ='2ND QRT '!I25 -> 0 | H25: =B25+D25+F25 -> 0 | I25: =C25+E25+G25 -> 0 | J25: =H25+I25 -> 0
A26: MAKURDI | B26: ='1ST QRT '!H26 -> 174 | C26: ='1ST QRT '!I26 -> 168 | D26: ='2ND QRT '!H26 -> 46 | E26: ='2ND QRT '!I26 -> 40 | H26: =B26+D26+F26 -> 220 | I26: =C26+E26+G26 -> 208 | J26: =H26+I26 -> 428
A27: INT | B27: ='1ST QRT '!H27 -> 0 | C27: ='1ST QRT '!I27 -> 0 | D27: ='2ND QRT '!H27 -> 0 | E27: ='2ND QRT '!I27 -> 0 | J27: =H27+I27 -> 0
A28: MMIA DOM | B28: ='1ST QRT '!H28 -> 526263 | C28: ='1ST QRT '!I28 -> 648680 | D28: ='2ND QRT '!H28 -> 440603 | E28: ='2ND QRT '!I28 -> 443567 | H28: =B28+D28+F28 -> 966866 | I28: =C28+E28+G28 -> 1092247 | J28: =H28+I28 -> 2059113
A29: INT | B29: ='1ST QRT '!H29 -> 406685 | C29: ='1ST QRT '!I29 -> 391369 | D29: ='2ND QRT '!H29 -> 327538 | E29: ='2ND QRT '!I29 -> 353146 | H29: =B29+D29+F29 -> 734223 | I29: =C29+E29+G29 -> 744515 | J29: =H29+I29 -> 1478738
A30: P.H. DOM | B30: ='1ST QRT '!H30 -> 118183 | C30: ='1ST QRT '!I30 -> 118147 | D30: ='2ND QRT '!H30 -> 121819 | E30: ='2ND QRT '!I30 -> 120785 | H30: =B30+D30+F30 -> 240002 | I30: =C30+E30+G30 -> 238932 | J30: =H30+I30 -> 478934
A31: INT | B31: ='1ST QRT '!H31 -> 10422 | C31: ='1ST QRT '!I31 -> 9842 | D31: ='2ND QRT '!H31 -> 10182 | E31: ='2ND QRT '!I31 -> 11550 | H31: =B31+D31+F31 -> 20604 | I31: =C31+E31+G31 -> 21392 | J31: =H31+I31 -> 41996
A32: YOLA DOM | B32: ='1ST QRT '!H32 -> 17185 | C32: ='1ST QRT '!I32 -> 18539 | D32: ='2ND QRT '!H32 -> 19626 | E32: ='2ND QRT '!I32 -> 20385 | H32: =B32+D32+F32 -> 36811 | I32: =C32+E32+G32 -> 38924 | J32: =H32+I32 -> 75735
A33: INT | B33: ='1ST QRT '!H33 -> 0 | C33: ='1ST QRT '!I33 -> 0 | D33: ='2ND QRT '!H33 -> 0 | E33: ='2ND QRT '!I33 -> 0 | H33: =B33+D33+F33 -> 0 | I33: =C33+E33+G33 -> 0 | J33: =H33+I33 -> 0
A34: MINNA DOM | B34: ='1ST QRT '!H34 -> 0 | C34: ='1ST QRT '!I34 -> 0 | D34: ='2ND QRT '!H34 -> 471 | E34: ='2ND QRT '!I34 -> 480 | H34: =B34+D34+F34 -> 471 | I34: =C34+E34+G34 -> 480 | J34: =H34+I34 -> 951
A35: INT | B35: ='1ST QRT '!H35 -> 0 | C35: ='1ST QRT '!I35 -> 0 | D35: ='2ND QRT '!H35 -> 0 | E35: ='2ND QRT '!I35 -> 0 | H35: =B35+D35+F35 -> 0 | I35: =C35+E35+G35 -> 0 | J35: =H35+I35 -> 0
A36: KATSINA | B36: ='1ST QRT '!H36 -> 232 | C36: ='1ST QRT '!I36 -> 213 | D36: ='2ND QRT '!H36 -> 329 | E36: ='2ND QRT '!I36 -> 381 | H36: =B36+D36+F36 -> 561 | I36: =C36+E36+G36 -> 594 | J36: =H36+I36 -> 1155
A37: INT | B37: ='1ST QRT '!H37 -> 0 | C37: ='1ST QRT '!I37 -> 0 | D37: ='2ND QRT '!H37 -> 0 | E37: ='2ND QRT '!I37 -> 0 | H37: =B37+D37+F37 -> 0 | I37: =C37+E37+G37 -> 0 | J37: =H37+I37 -> 0
A38: OWERRI | B38: ='1ST QRT '!H38 -> 52512 | C38: ='1ST QRT '!I38 -> 57042 | D38: ='2ND QRT '!H38 -> 66957 | E38: ='2ND QRT '!I38 -> 70096 | H38: =B38+D38+F38 -> 119469 | I38: =C38+E38+G38 -> 127138 | J38: =H38+I38 -> 246607
A39: OSUBI | B39: ='1ST QRT '!H39 -> 0 | C39: ='1ST QRT '!I39 -> 0 | D39: ='2ND QRT '!H39 -> 0 | E39: ='2ND QRT '!I39 -> 0 | H39: =B39+D39+F39 -> 0 | I39: =C39+E39+G39 -> 0 | J39: =H39+I39 -> 0
A40: TOTAL DOM | B40: =B39+B38+B36+B34+B32+B30+B28+B26+B24+B22+B20+B18+B16+B14+B13+B11+B9+B8+B7+B5 -> 1335228 | C40: =C39+C38+C36+C34+C32+C30+C28+C26+C24+C22+C20+C18+C16+C14+C13+C11+C9+C8+C7+C5 -> 1444227 | D40: =D39+D38+D36+D34+D32+D30+D28+D26+D24+D22+D20+D18+D16+D14+D13+D11+D9+D8+D7+D5 -> 1332552 | E40: =E39+E38+E36+E34+E32+E30+E28+E26+E24+E22+E20+E18+E16+E14+E13+E11+E9+E8+E7+E5 -> 1321138 | F40: =F39+F38+F36+F34+F32+F30+F28+F26+F24+F22+F20+F18+F16+F14+F13+F11+F9+F8+F7+F5 -> 0 | G40: =G39+G38+G36+G34+G32+G30+G28+G26+G24+G22+G20+G18+G16+G14+G13+G11+G9+G8+G7+G5 -> 0 | H40: =H39+H38+H36+H34+H32+H30+H28+H26+H24+H22+H20+H18+H16+H14+H13+H11+H9+H8+H7+H5 -> 2667780 | I40: =I39+I38+I36+I34+I32+I30+I28+I26+I24+I22+I20+I18+I16+I14+I13+I11+I9+I8+I7+I5 -> 2765365 | J40: =H40+I40 -> 5433145
...
