Workbook

Sheet 1ST QRT 
A1: FEDERAL AIRPORTS AUTHORITY OF NIGERIA
A2: PASSENGER TRAFFIC FIRST QUARTER 2018
A3: AIRPORT | B3: JANUARY | D3: FEBRUARY | F3: MARCH | H3: TOTAL | J3: GRAND
B4: ARRIVAL | C4: DEPARTURE | D4: ARRIVAL | E4: DEPARTURE | F4: ARRIVAL | G4: DEPARTURE | H4: ARRIVAL | I4: DEPARTURE | J4: TOTAL | K4: 2017 1ST QTR | L4: Y-on-Y
A5: ABUJA DOM | B5: 138133 | C5: 125492 | D5: 129316 | E5: 119547 | F5: 156045 | G5: 153528 | H5: =B5+D5+F5 -> 423494 | I5: =C5+E5+G5 -> 398567 | J5: =H5+I5 -> 822061 | K5: 500252
A6: INT | B6: 40619 | C6: 35208 | D6: 26355 | E6: 28353 | F6: 32158 | G6: 37152 | H6: =B6+D6+F6 -> 99132 | I6: =C6+E6+G6 -> 100713 | J6: =H6+I6 -> 199845 | K6: 127137 | L6: =(J6-K6)/K6*100 -> 57.188702
A7: AKURE | B7: 1016 | C7: 838 | D7: 1610 | E7: 1735 | F7: 1856 | G7: 1939 | H7: =B7+D7+F7 -> 4482 | I7: =C7+E7+G7 -> 4512 | J7: =H7+I7 -> 8994 | K7: 2245 | L7: =(J7-K7)/K7*100 -> 300.62361
A8: BENIN | B8: 8906 | C8: 9428 | D8: 12029 | E8: 12261 | F8: 13496 | G8: 13401 | H8: =B8+D8+F8 -> 34431 | I8: =C8+E8+G8 -> 35090 | J8: =H8+I8 -> 69521 | K8: 47806 | L8: =(J8-K8)/K8*100 -> 45.423169
A9: CALABAR DOM | B9: 4003 | C9: 4570 | D9: 6371 | E9: 6481 | F9: 7231 | G9: 7189 | H9: =B9+D9+F9 -> 17605 | I9: =C9+E9+G9 -> 18240 | J9: =H9+I9 -> 35845 | K9: 35077 | L9: =(J9-K9)/K9*100 -> 2.1894689
A10: INT | B10: 0 | C10: 0 | D10: 0 | E10: 0 | F10: 0 | G10: 0 | H10: =B10+D10+F10 -> 0 | I10: =C10+E10+G10 -> 0 | J10: =H10+I10 -> 0 | K10: 0
A11: ENUGU | B11: 9212 | C11: 12832 | D11: 9055 | E11: 8971 | F11: 14906 | G11: 13403 | H11: =B11+D11+F11 -> 33173 | I11: =C11+E11+G11 -> 35206 | J11: =H11+I11 -> 68379 | K11: 64024 | L11: =(J11-K11)/K11*100 -> 6.8021367
A12: INT | B12: 2035 | C12: 3143 | D12: 812 | E12: 929 | F12: 1724 | G12: 2125 | H12: =B12+D12+F12 -> 4571 | I12: =C12+E12+G12 -> 6197 | J12: =H12+I12 -> 10768 | K12: 8964 | L12: =(J12-K12)/K12*100 -> 20.124944
A13: IBADAN | B13: 2088 | C13: 2201 | D13: 2218 | E13: 2234 | F13: 2959 | G13: 2886 | H13: =B13+D13+F13 -> 7265 | I13: =C13+E13+G13 -> 7321 | J13: =H13+I13 -> 14586 | K13: 9985 | L13: =(J13-K13)/K13*100 -> 46.079119
A14: ILORIN DOM | B14: 3044 | C14: 2820 | D14: 3307 | E14: 3462 | F14: 3759 | G14: 3517 | H14: =B14+D14+F14 -> 10110 | I14: =C14+E14+G14 -> 9799 | J14: =H14+I14 -> 19909 | K14: 13424 | L14: =(J14-K14)/K14*100 -> 48.308999
A15: INT | B15: 0 | C15: 0 | D15: 0 | E15: 0 | F15: 0 | G15: 0 | H15: =B15+D15+F15 -> 0 | I15: =C15+E15+G15 -> 0 | J15: =H15+I15 -> 0 | K15: 0
A16: JOS DOM | B16: 2110 | C16: 1962 | D16: 1855 | E16: 1909 | F16: 2465 | G16: 2230 | H16: =B16+D16+F16 -> 6430 | I16: =C16+E16+G16 -> 6101 | J16: =H16+I16 -> 12531 | K16: 9323 | L16: =(J16-K16)/K16*100 -> 34.409525
A17: INT | B17: 0 | C17: 0 | D17: 0 | E17: 0
A18: KADUNA DOM | B18: 5506 | C18: 5781 | D18: 1854 | E18: 5176 | F18: 6188 | G18: 6061 | H18: =B18+D18+F18 -> 13548 | I18: =C18+E18+G18 -> 17018 | J18: =H18+I18 -> 30566 | K18: 124996 | L18: =(J18-K18)/K18*100 -> -75.546417
A19: INT | H19: =B19+D19+F19 -> 0 | I19: =C19+E19+G19 -> 0 | J19: =H19+I19 -> 0 | K19: 0
A20: SOKOTO DOM | B20: 2902 | C20: 2735 | D20: 2988 | E20: 3342 | F20: 3985 | G20: 3754 | H20: =B20+D20+F20 -> 9875 | I20: =C20+E20+G20 -> 9831 | J20: =H20+I20 -> 19706 | K20: 9932 | L20: =(J20-K20)/K20*100 -> 98.409182
A21: INT | B21: 0 | C21: 0 | D21: 0 | E21: 0 | H21: =B21+D21+F21 -> 0 | I21: =C21+E21+G21 -> 0 | J21: =H21+I21 -> 0 | K21: 0
A22: KANO DOM | B22: 10622 | C22: 10597 | D22: 11627 | E22: 11451 | F22: 16266 | G22: 16254 | H22: =B22+D22+F22 -> 38515 | I22: =C22+E22+G22 -> 38302 | J22: =H22+I22 -> 76817 | K22: 50402 | L22: =(J22-K22)/K22*100 -> 52.408635
A23: INT | B23: 8454 | C23: 6246 | D23: 5330 | E23: 4987 | F23: 6148 | G23: 6302 | H23: =B23+D23+F23 -> 19932 | I23: =C23+E23+G23 -> 17535 | J23: =H23+I23 -> 37467 | K23: 42434 | L23: =(J23-K23)/K23*100 -> -11.705236
A24: MAID DOM | B24: 6861 | C24: 6863 | D24: 6237 | E24: 5786 | F24: 8653 | G24: 8802 | H24: =B24+D24+F24 -> 21751 | I24: =C24+E24+G24 -> 21451 | J24: =H24+I24 -> 43202 | K24: 27446 | L24: =(J24-K24)/K24*100 -> 57.407272
A25: INT | F25: 0 | G25: 0 | H25: =B25+D25+F25 -> 0 | I25: =C25+E25+G25 -> 0 | J25: =H25+I25 -> 0 | K25: 0
A26: MAKURDI DOM | B26: 65 | C26: 69 | D26: 84 | E26: 79 | F26: 25 | G26: 20 | H26: =B26+D26+F26 -> 174 | I26: =C26+E26+G26 -> 168 | J26: =H26+I26 -> 342 | K26: 0
A27: INT | B27: 0 | C27: 0 | D27: 0 | E27: 0
A28: MMIA DOM | B28: 136037 | C28: 132176 | D28: 119081 | E28: 117248 | F28: 271145 | G28: 399256 | H28: =B28+D28+F28 -> 526263 | I28: =C28+E28+G28 -> 648680 | J28: =H28+I28 -> 1174943 | K28: 784728 | L28: =(J28-K28)/K28*100 -> 49.726147
A29: INT | B29: 155139 | C29: 129418 | D29: 77311 | E29: 87549 | F29: 174235 | G29: 174402 | H29: =B29+D29+F29 -> 406685 | I29: =C29+E29+G29 -> 391369 | J29: =H29+I29 -> 798054 | K29: 663330 | L29: =(J29-K29)/K29*100 -> 20.310253
A30: P.H. DOM | B30: 36973 | C30: 37601 | D30: 38505 | E30: 38780 | F30: 42705 | G30: 41766 | H30: =B30+D30+F30 -> 118183 | I30: =C30+E30+G30 -> 118147 | J30: =H30+I30 -> 236330 | K30: 189079 | L30: =(J30-K30)/K30*100 -> 24.990084
A31: INT | B31: 4529 | C31: 4299 | D31: 2705 | E31: 2594 | F31: 3188 | G31: 2949 | H31: =B31+D31+F31 -> 10422 | I31: =C31+E31+G31 -> 9842 | J31: =H31+I31 -> 20264 | K31: 21110 | L31: =(J31-K31)/K31*100 -> -4.0075793
A32: YOLA DOM | B32: 5065 | C32: 6051 | D32: 4926 | E32: 5376 | F32: 7194 | G32: 7112 | H32: =B32+D32+F32 -> 17185 | I32: =C32+E32+G32 -> 18539 | J32: =H32+I32 -> 35724 | K32: 28171 | L32: =(J32-K32)/K32*100 -> 26.81126
A33: INT | B33: 0 | C33: 0 | D33: 0 | E33: 0 | H33: =B33+D33+F33 -> 0 | I33: =C33+E33+G33 -> 0 | J33: =H33+I33 -> 0 | K33: 0
A34: MINNA DOM | H34: =B34+D34+F34 -> 0 | I34: =C34+E34+G34 -> 0 | J34: =H34+I34 -> 0 | K34: 1368
A35: INT | H35: =B35+D35+F35 -> 0 | I35: =C35+E35+G35 -> 0 | J35: =H35+I35 -> 0 | K35: 0
A36: KATSINA | B36: 78 | C36: 59 | D36: 118 | E36: 118 | F36: 36 | G36: 36 | H36: =B36+D36+F36 -> 232 | I36: =C36+E36+G36 -> 213 | J36: =H36+I36 -> 445 | K36: 510 | L36: =(J36-K36)/K36*100 -> -12.745098
A37: INT | B37: 0 | C37: 0 | D37: 0 | E37: 0 | F37: 0 | G37: 0 | H37: =B37+D37+F37 -> 0 | I37: =C37+E37+G37 -> 0 | J37: =H37+I37 -> 0 | K37: 0
A38: OWERRI | B38: 11881 | C38: 18050 | D38: 19390 | E38: 19460 | F38: 21241 | G38: 19532 | H38: =B38+D38+F38 -> 52512 | I38: =C38+E38+G38 -> 57042 | J38: =H38+I38 -> 109554 | K38: 87908 | L38: =(J38-K38)/K38*100 -> 24.62347
A39: OSUBI | B39: 0 | C39: 0 | D39: 0 | E39: 0 | H39: =B39+D39+F39 -> 0 | I39: =C39+E39+G39 -> 0 | J39: =H39+I39 -> 0 | K39: 30843 | L39: =(J39-K39)/K39*100 -> -100
A40: TOTAL DOM | B40: =B39+B38+B36+B34+B32+B30+B28+B26+B24+B22+B20+B18+B16+B14+B13+B11+B9+B8+B7+B5 -> 384502 | C40: =C39+C38+C36+C34+C32+C30+C28+C26+C24+C22+C20+C18+C16+C14+C13+C11+C9+C8+C7+C5 -> 380125 | D40: =D39+D38+D36+D34+D32+D30+D28+D26+D24+D22+D20+D18+D16+D14+D13+D11+D9+D8+D7+D5 -> 370571 | E40: =E39+E38+E36+E34+E32+E30+E28+E26+E24+E22+E20+E18+E16+E14+E13+E11+E9+E8+E7+E5 -> 363416 | F40: =F39+F38+F36+F34+F32+F30+F28+F26+F24+F22+F20+F18+F16+F14+F13+F11+F9+F8+F7+F5 -> 580155 | G40: =G39+G38+G36+G34+G32+G30+G28+G26+G24+G22+G20+G18+G16+G14+G13+G11+G9+G8+G7+G5 -> 700686 | H40: =H39+H38+H36+H34+H32+H30+H28+H26+H24+H22+H20+H18+H16+H14+H13+H11+H9+H8+H7+H5 -> 1335228 | I40: =I39+I38+I36+I34+I32+I30+I28+I26+I24+I22+I20+I18+I16+I14+I13+I11+I9+I8+I7+I5 -> 1444227 | J40: =J39+J38+J36+J34+J32+J30+J28+J26+J24+J22+J20+J18+J16+J14+J13+J11+J9+J8+J7+J5 -> 2779455 | K40: 2017519 | L40: =(J40-K40)/K40*100 -> 37.765989
A41: TOTAL INT | B41: =B37+B35+B33+B31+B29+B25+B23+B21+B19+B15+B12+B10+B6+B17+B27 -> 210776 | C41: =C37+C35+C33+C31+C29+C25+C23+C21+C19+C15+C12+C10+C6 -> 178314 | D41: =D37+D35+D33+D31+D29+D25+D23+D21+D19+D15+D12+D10+D6 -> 112513 | E41: =E37+E35+E33+E31+E29+E25+E23+E21+E19+E15+E12+E10+E6 -> 124412 | F41: =F37+F35+F33+F31+F29+F25+F23+F21+F19+F15+F12+F10+F6 -> 217453 | G41: =G37+G35+G33+G31+G29+G25+G23+G21+G19+G15+G12+G10+G6 -> 222930 | H41: =H37+H35+H33+H31+H29+H25+H23+H21+H19+H15+H12+H10+H6 -> 540742 | I41: =I37+I35+I33+I31+I29+I25+I23+I21+I19+I15+I12+I10+I6 -> 525656 | J41: =J37+J35+J33+J31+J29+J25+J23+J21+J19+J15+J12+J10+J6 -> 1066398 | K41: 862975 | L41: =(J41-K41)/K41*100 -> 23.572294
A42: GRAND TOTAL | B42: =B40+B41 -> 595278 | C42: =C40+C41 -> 558439 | D42: =D40+D41 -> 483084 | E42: =E40+E41 -> 487828 | F42: =F40+F41 -> 797608 | G42: =G40+G41 -> 923616 | H42: =H40+H41 -> 1875970 | I42: =I40+I41 -> 1969883 | J42: =J40+J41 -> 3845853 | K42: 2880494 | L42: =(J42-K42)/K42*100 -> 33.513661
A43: SOURCE: FAAN QUARTERLY STATISTICS
A51: FEDERAL AIRPORTS AUTHORITY OF NIGERIA
A52: AIRCRAFT TRAFFIC FIRST QUARTER 2018
A53: AIRPORT | B53: JANUARY | D53: FEBRUARY | F53: MARCH | H53: TOTAL | J53: GRAND | K53: 2017 1ST QTR | L53: % DIFF 18 &17
B54: ARRIVAL | C54: DEPARTURE | D54: ARRIVAL | E54: DEPARTURE | F54: ARRIVAL | G54: DEPARTURE | H54: ARRIVAL | I54: DEPARTURE | J54: TOTAL
A55: ABUJA DOM | B55: 2236 | C55: 2218 | D55: 2373 | E55: 2373 | F55: 2455 | G55: 2455 | H55: =B55+D55+F55 -> 7064 | I55: =C55+E55+G55 -> 7046 | J55: =H55+I55 -> 14110 | K55: 8799 | L55: =(J55-K55)/K55*100 -> 60.359132
A56: INT | B56: 413 | C56: 411 | D56: 338 | E56: 338 | F56: 396 | G56: 396 | H56: =B56+D56+F56 -> 1147 | I56: =C56+E56+G56 -> 1145 | J56: =H56+I56 -> 2292 | K56: 1445 | L56: =(J56-K56)/K56*100 -> 58.615917
A57: AKURE | B57: 55 | C57: 55 | D57: 79 | E57: 79 | F57: 80 | G57: 80 | H57: =B57+D57+F57 -> 214 | I57: =C57+E57+G57 -> 214 | J57: =H57+I57 -> 428 | K57: 239 | L57: =(J57-K57)/K57*100 -> 79.079498
A58: BENIN | B58: 142 | C58: 143 | D58: 199 | E58: 198 | F58: 191 | G58: 191 | H58: =B58+D58+F58 -> 532 | I58: =C58+E58+G58 -> 532 | J58: =H58+I58 -> 1064 | K58: 962 | L58: =(J58-K58)/K58*100 -> 10.602911
A59: CALABAR DOM | B59: 65 | C59: 65 | D59: 83 | E59: 83 | F59: 86 | G59: 87 | H59: =B59+D59+F59 -> 234 | I59: =C59+E59+G59 -> 235 | J59: =H59+I59 -> 469 | K59: 501 | L59: =(J59-K59)/K59*100 -> -6.3872255
A60: INT | B60: 0 | C60: 0 | H60: =B60+D60+F60 -> 0 | I60: =C60+E60+G60 -> 0 | J60: =H60+I60 -> 0 | K60: 0
A61: ENUGU | B61: 166 | C61: 167 | D61: 121 | E61: 117 | F61: 206 | G61: 206 | H61: =B61+D61+F61 -> 493 | I61: =C61+E61+G61 -> 490 | J61: =H61+I61 -> 983 | K61: 1000 | L61: =(J61-K61)/K61*100 -> -1.7
B62: 13 | C62: 13 | D62: 9 | E62: 9 | F62: 14 | G62: 14 | H62: =B62+D62+F62 -> 36 | I62: =C62+E62+G62 -> 36 | J62: =H62+I62 -> 72 | K62: 65 | L62: =(J62-K62)/K62*100 -> 10.769231
A63: IBADAN | B63: 76 | C63: 76 | D63: 70 | E63: 70 | F63: 95 | G63: 94 | H63: =B63+D63+F63 -> 241 | I63: =C63+E63+G63 -> 240 | J63: =H63+I63 -> 481 | K63: 425 | L63: =(J63-K63)/K63*100 -> 13.176471
A64: ILORIN DOM | B64: 97 | C64: 97 | D64: 98 | E64: 98 | F64: 105 | G64: 105 | H64: =B64+D64+F64 -> 300 | I64: =C64+E64+G64 -> 300 | J64: =H64+I64 -> 600 | K64: 598 | L64: =(J64-K64)/K64*100 -> 0.33444816
A65: INT | B65: 0 | C65: 0 | D65: 0 | E65: 0 | H65: =B65+D65+F65 -> 0 | I65: =C65+E65+G65 -> 0 | J65: =H65+I65 -> 0 | K65: 0
A66: JOS | B66: 38 | C66: 38 | D66: 44 | E66: 44 | F66: 59 | G66: 59 | H66: =B66+D66+F66 -> 141 | I66: =C66+E66+G66 -> 141 | J66: =H66+I66 -> 282 | K66: 261 | L66: =(J66-K66)/K66*100 -> 8.045977
A67: INT | B67: 0 | C67: 0 | D67: 0 | E67: 0
A68: KADUNA DOM | B68: 100 | C68: 98 | D68: 109 | E68: 108 | F68: 120 | G68: 121 | H68: =B68+D68+F68 -> 329 | I68: =C68+E68+G68 -> 327 | J68: =H68+I68 -> 656 | K68: 2949 | L68: =(J68-K68)/K68*100 -> -77.755171
A69: INT | H69: =B69+D69+F69 -> 0 | I69: =C69+E69+G69 -> 0 | J69: =H69+I69 -> 0 | K69: 0
A70: SOKOTO DOM | B70: 60 | C70: 60 | D70: 75 | E70: 75 | F70: 79 | G70: 79 | H70: =B70+D70+F70 -> 214 | I70: =C70+E70+G70 -> 214 | J70: =H70+I70 -> 428 | K70: 342 | L70: =(J70-K70)/K70*100 -> 25.146199
A71: INT | B71: 0 | C71: 0 | H71: =B71+D71+F71 -> 0 | I71: =C71+E71+G71 -> 0 | J71: =H71+I71 -> 0 | K71: 0
A72: KANO DOM | B72: 184 | C72: 183 | D72: 212 | E72: 217 | F72: 317 | G72: 323 | H72: =B72+D72+F72 -> 713 | I72: =C72+E72+G72 -> 723 | J72: =H72+I72 -> 1436 | K72: 831 | L72: =(J72-K72)/K72*100 -> 72.803851
A73: INT | B73: 87 | C73: 88 | D73: 77 | E73: 71 | F73: 78 | G73: 72 | H73: =B73+D73+F73 -> 242 | I73: =C73+E73+G73 -> 231 | J73: =H73+I73 -> 473 | K73: 379 | L73: =(J73-K73)/K73*100 -> 24.802111
A74: MAID DOM | B74: 367 | C74: 370 | D74: 319 | E74: 321 | F74: 593 | G74: 593 | H74: =B74+D74+F74 -> 1279 | I74: =C74+E74+G74 -> 1284 | J74: =H74+I74 -> 2563 | K74: 1307 | L74: =(J74-K74)/K74*100 -> 96.097934
A75: INT | H75: =B75+D75+F75 -> 0 | I75: =C75+E75+G75 -> 0 | J75: =H75+I75 -> 0 | K75: 0
A76: MAKURDI | B76: 9 | C76: 9 | D76: 17 | E76: 16 | F76: 5 | G76: 5 | H76: =B76+D76+F76 -> 31 | I76: =C76+E76+G76 -> 30 | J76: =H76+I76 -> 61 | K76: 0
A77: INT | B77: 0 | C77: 0 | D77: 0 | E77: 0
A78: MMIA DOM | B78: 1841 | C78: 1881 | D78: 1575 | E78: 1585 | F78: 1946 | G78: 1902 | H78: =B78+D78+F78 -> 5362 | I78: =C78+E78+G78 -> 5368 | J78: =H78+I78 -> 10730 | K78: 15620 | L78: =(J78-K78)/K78*100 -> -31.306018
A79: INT | B79: 956 | C79: 956 | D79: 708 | E79: 708 | F79: 901 | G79: 907 | H79: =B79+D79+F79 -> 2565 | I79: =C79+E79+G79 -> 2571 | J79: =H79+I79 -> 5136 | K79: 6635 | L79: =(J79-K79)/K79*100 -> -22.592313
A80: P.H. DOM | B80: 832 | C80: 828 | D80: 771 | E80: 768 | F80: 721 | G80: 732 | H80: =B80+D80+F80 -> 2324 | I80: =C80+E80+G80 -> 2328 | J80: =H80+I80 -> 4652 | K80: 4088 | L80: =(J80-K80)/K80*100 -> 13.796477
A81: INT | B81: 47 | C81: 47 | D81: 43 | E81: 44 | F81: 53 | G81: 53 | H81: =B81+D81+F81 -> 143 | I81: =C81+E81+G81 -> 144 | J81: =H81+I81 -> 287 | K81: 470 | L81: =(J81-K81)/K81*100 -> -38.93617
A82: YOLA DOM | B82: 89 | C82: 89 | D82: 108 | E82: 108 | F82: 130 | G82: 130 | H82: =B82+D82+F82 -> 327 | I82: =C82+E82+G82 -> 327 | J82: =H82+I82 -> 654 | K82: 649 | L82: =(J82-K82)/K82*100 -> 0.77041602
A83: INT | B83: 0 | C83: 0 | H83: =B83+D83+F83 -> 0 | I83: =C83+E83+G83 -> 0 | J83: =H83+I83 -> 0 | K83: 0
A84: MINNA DOM | H84: =B84+D84+F84 -> 0 | I84: =C84+E84+G84 -> 0 | J84: =H84+I84 -> 0 | K84: 226
A85: INT | H85: =B85+D85+F85 -> 0 | I85: =C85+E85+G85 -> 0 | J85: =H85+I85 -> 0 | K85: 0
A86: KATSINA | B86: 24 | C86: 24 | D86: 36 | E86: 36 | F86: 17 | G86: 17 | H86: =B86+D86+F86 -> 77 | I86: =C86+E86+G86 -> 77 | J86: =H86+I86 -> 154 | K86: 93 | L86: =(J86-K86)/K86*100 -> 65.591398
A87: INT | B87: 0 | C87: 0 | H87: =B87+D87+F87 -> 0 | I87: =C87+E87+G87 -> 0 | J87: =H87+I87 -> 0 | K87: 0
A88: OWERRI | B88: 213 | C88: 213 | D88: 268 | E88: 268 | F88: 262 | G88: 262 | H88: =B88+D88+F88 -> 743 | I88: =C88+E88+G88 -> 743 | J88: =H88+I88 -> 1486 | K88: 1313 | L88: =(J88-K88)/K88*100 -> 13.175933
A89: OSUBI | B89: 0 | C89: 0 | D89: 0 | E89: 0 | H89: =B89+D89+F89 -> 0 | I89: =C89+E89+G89 -> 0 | J89: =H89+I89 -> 0 | K89: 1043 | L89: =(J89-K89)/K89*100 -> -100
A90: TOTAL DOM | B90: =B89+B88+B86+B84+B82+B80+B78+B76+B74+B72+B70+B68+B66+B64+B63+B61+B59+B58+B57+B55 -> 6594 | C90: =C89+C88+C86+C84+C82+C80+C78+C76+C74+C72+C70+C68+C66+C64+C63+C61+C59+C58+C57+C55 -> 6614 | D90: =D89+D88+D86+D84+D82+D80+D78+D76+D74+D72+D70+D68+D66+D64+D63+D61+D59+D58+D57+D55 -> 6557 | E90: =E89+E88+E86+E84+E82+E80+E78+E76+E74+E72+E70+E68+E66+E64+E63+E61+E59+E58+E57+E55 -> 6564 | F90: =F89+F88+F86+F84+F82+F80+F78+F76+F74+F72+F70+F68+F66+F64+F63+F61+F59+F58+F57+F55 -> 7467 | G90: =G89+G88+G86+G84+G82+G80+G78+G76+G74+G72+G70+G68+G66+G64+G63+G61+G59+G58+G57+G55 -> 7441 | H90: =H89+H88+H86+H84+H82+H80+H78+H76+H74+H72+H70+H68+H66+H64+H63+H61+H59+H58+H57+H55 -> 20618 | I90: =I89+I88+I86+I84+I82+I80+I78+I76+I74+I72+I70+I68+I66+I64+I63+I61+I59+I58+I57+I55 -> 20619 | J90: =H90+I90 -> 41237 | K90: 41246 | L90: =(J90-K90)/K90*100 -> -0.021820298
A91: TOTAL INT | B91: =B87+B85+B83+B81+B79+B75+B73+B71+B69+B65+B60+B56+B67+B77+B62 -> 1516 | C91: =C87+C85+C83+C81+C79+C75+C73+C71+C69+C65+C60+C56+C67+C77+C62 -> 1515 | D91: =D87+D85+D83+D81+D79+D75+D73+D71+D69+D65+D60+D56+D67+D77+D62 -> 1175 | E91: =E87+E85+E83+E81+E79+E75+E73+E71+E69+E65+E60+E56+E67+E77+E62 -> 1170 | F91: =F87+F85+F83+F81+F79+F75+F73+F71+F69+F65+F60+F56+F67+F77+F62 -> 1442 | G91: =G87+G85+G83+G81+G79+G75+G73+G71+G69+G65+G60+G56+G67+G77+G62 -> 1442 | H91: =H87+H85+H83+H81+H79+H75+H73+H71+H69+H65+H60+H56+H62 -> 4133 | I91: =I87+I85+I83+I81+I79+I75+I73+I71+I69+I65+I60+I56+I62 -> 4127 | J91: =H91+I91 -> 8260 | K91: 8994 | L91: =(J91-K91)/K91*100 -> -8.1609962
A92: GRAND TOTAL | B92: =B91+B90 -> 8110 | C92: =C91+C90 -> 8129 | D92: =D91+D90 -> 7732 | E92: =E91+E90 -> 7734 | F92: =F91+F90 -> 8909 | G92: =G91+G90 -> 8883 | H92: =H91+H90 -> 24751 | I92: =I91+I90 -> 24746 | J92: =J91+J90 -> 49497 | K92: 50240 | L92: =(J92-K92)/K92*100 -> -1.4789013
A93: SOURCE: FAAN QUARTERLY STATISTICS
A101: FEDERAL AIRPORTS AUTHORITY OF NIGERIA
A102: CARGO TRAFFIC (KG) FIRST QUARTER 2018
A103: AIRPORT | B103: JANUARY | D103: FEBRUARY | F103: MARCH | H103: TOTAL | J103: GRAND | K103: 2017 1ST QTR | L103: % DIFF 18 &17
B104: UNLOADED | C104: LOADED | D104: UNLOADED | E104: LOADED | F104: UNLOADED | G104: LOADED | H104: UNLOADED | I104: LOADED | J104: TOTAL
A105: ABUJA DOM | H105: =B105+D105+F105 -> 0 | I105: =C105+E105+G105 -> 0 | J105: =H105+I105 -> 0 | K105: 0
A106: INT | B106: 12624 | C106: 291741.25 | D106: 10961 | E106: 230356 | F106: 5639 | G106: 276367 | H106: =B106+D106+F106 -> 29224 | I106: =C106+E106+G106 -> 798464.25 | J106: =H106+I106 -> 827688.25 | K106: 522145 | L106: =(J106-K106)/K106*100 -> 58.516935
A107: AKURE | B107: 0 | C107: 0 | D107: 0 | E107: 0 | F107: 0 | G107: 0 | H107: =B107+D107+F107 -> 0 | I107: =C107+E107+G107 -> 0 | J107: =H107+I107 -> 0 | K107: 0
A108: BENIN | B108: 0 | C108: 0 | D108: 0 | E108: 0 | F108: 0 | G108: 0 | H108: =B108+D108+F108 -> 0 | I108: =C108+E108+G108 -> 0 | J108: =H108+I108 -> 0 | K108: 0
A109: CALABAR DOM | B109: 0 | C109: 0 | D109: 0 | E109: 0 | F109: 0 | G109: 0 | H109: =B109+D109+F109 -> 0 | I109: =C109+E109+G109 -> 0 | J109: =H109+I109 -> 0 | K109: 0
A110: INT | B110: 0 | C110: 0 | D110: 0 | E110: 0 | F110: 0 | G110: 0 | H110: =B110+D110+F110 -> 0 | I110: =C110+E110+G110 -> 0 | J110: =H110+I110 -> 0 | K110: 0
A111: ENUGU DOM | B111: 0 | C111: 0 | D111: 0 | E111: 0 | F111: 0 | G111: 0 | H111: =B111+D111+F111 -> 0 | I111: =C111+E111+G111 -> 0 | J111: =H111+I111 -> 0 | K111: 0
A112: INT | H112: =B112+D112+F112 -> 0 | I112: =C112+E112+G112 -> 0 | J112: =H112+I112 -> 0 | K112: 141878.68
A113: IBADAN | B113: 0 | C113: 0 | D113: 0 | E113: 0 | F113: 0 | G113: 0 | H113: =B113+D113+F113 -> 0 | I113: =C113+E113+G113 -> 0 | J113: =H113+I113 -> 0 | K113: 0
A114: ILORIN DOM | B114: 0 | C114: 0 | D114: 0 | E114: 0 | F114: 0 | G114: 0 | H114: =B114+D114+F114 -> 0 | I114: =C114+E114+G114 -> 0 | J114: =H114+I114 -> 0 | K114: 0
...

Sheet 2ND QRT 
A1: FEDERAL AIRPORTS AUTHORITY OF NIGERIA
A2: PROVISIONAL PASSENGER TRAFFIC SECOND QUARTER 2018
A3: AIRPORT | B3: APRIL | D3: MAY | F3: JUNE | H3: TOTAL | J3: GRAND | K3: 2017 2ND QTR | L3: Y-on-Y
B4: ARRIVAL | C4: DEPARTURE | D4: ARRIVAL | E4: DEPARTURE | F4: ARRIVAL | G4: DEPARTURE | H4: ARRIVAL | I4: DEPARTURE | J4: TOTAL
A5: ABUJA DOM | B5: 159801 | C5: 157481 | D5: 156755 | E5: 143331 | F5: 137909 | G5: 133434 | H5: =B5+D5+F5 -> 454465 | I5: =C5+E5+G5 -> 434246 | J5: =H5+I5 -> 888711 | K5: 577386 | L5: =(J5-K5)/K5*100 -> 53.919735
A6: INT | B6: 39712 | C6: 40064 | D6: 36313 | E6: 37020 | F6: 37682 | G6: 39044 | H6: =B6+D6+F6 -> 113707 | I6: =C6+E6+G6 -> 116128 | J6: =H6+I6 -> 229835 | K6: 142958 | L6: =(J6-K6)/K6*100 -> 60.770996
A7: AKURE | B7: 2072 | C7: 1979 | D7: 2072 | E7: 1979 | F7: 2214 | G7: 2112 | H7: =B7+D7+F7 -> 6358 | I7: =C7+E7+G7 -> 6070 | J7: =H7+I7 -> 12428 | K7: 2242 | L7: =(J7-K7)/K7*100 -> 454.32649
A8: BENIN | B8: 13661 | C8: 14499 | D8: 13011 | E8: 12944 | F8: 12435 | G8: 12597 | H8: =B8+D8+F8 -> 39107 | I8: =C8+E8+G8 -> 40040 | J8: =H8+I8 -> 79147 | K8: 57405 | L8: =(J8-K8)/K8*100 -> 37.87475
A9: CALABAR DOM | B9: 7523 | C9: 7604 | D9: 7452 | E9: 7632 | F9: 6128 | G9: 6243 | H9: =B9+D9+F9 -> 21103 | I9: =C9+E9+G9 -> 21479 | J9: =H9+I9 -> 42582 | K9: 37034 | L9: =(J9-K9)/K9*100 -> 14.980828
A10: INT | H10: =B10+D10+F10 -> 0 | I10: =C10+E10+G10 -> 0 | J10: =H10+I10 -> 0 | K10: 0
A11: ENUGU | B11: 14924 | C11: 16160 | D11: 13829 | E11: 14206 | F11: 12071 | G11: 12456 | H11: =B11+D11+F11 -> 40824 | I11: =C11+E11+G11 -> 42822 | J11: =H11+I11 -> 83646 | K11: 64670 | L11: =(J11-K11)/K11*100 -> 29.342817
A12: ENUGU INT | B12: 1708 | C12: 1797 | D12: 1734 | E12: 1922 | F12: 1639 | G12: 1731 | H12: =B12+D12+F12 -> 5081 | I12: =C12+E12+G12 -> 5450 | J12: =H12+I12 -> 10531 | K12: 10168 | L12: =(J12-K12)/K12*100 -> 3.5700236
A13: IBADAN | B13: 2621 | C13: 2833 | D13: 2392 | E13: 2480 | F13: 2590 | G13: 2512 | H13: =B13+D13+F13 -> 7603 | I13: =C13+E13+G13 -> 7825 | J13: =H13+I13 -> 15428 | K13: 14246 | L13: =(J13-K13)/K13*100 -> 8.2970658
A14: ILORIN DOM | B14: 3789 | C14: 3678 | D14: 3312 | E14: 3282 | F14: 3274 | G14: 3479 | H14: =B14+D14+F14 -> 10375 | I14: =C14+E14+G14 -> 10439 | J14: =H14+I14 -> 20814 | K14: 18961 | L14: =(J14-K14)/K14*100 -> 9.7726913
A15: INT | B15: 0 | C15: 0 | H15: =B15+D15+F15 -> 0 | I15: =C15+E15+G15 -> 0 | J15: =H15+I15 -> 0 | K15: 0
A16: JOS DOM | B16: 2546 | C16: 2518 | D16: 2628 | E16: 2448 | F16: 2546 | G16: 2339 | H16: =B16+D16+F16 -> 7720 | I16: =C16+E16+G16 -> 7305 | J16: =H16+I16 -> 15025 | K16: 14651 | L16: =(J16-K16)/K16*100 -> 2.5527268
A17: INT
A18: KADUNA DOM | B18: 7141 | C18: 7397 | D18: 4935 | E18: 5220 | F18: 4369 | G18: 4401 | H18: =B18+D18+F18 -> 16445 | I18: =C18+E18+G18 -> 17018 | J18: =H18+I18 -> 33463 | K18: 129034 | L18: =(J18-K18)/K18*100 -> -74.066525
A19: INT | B19: 430 | C19: 721 | D19: 352 | E19: 713 | H19: =B19+D19+F19 -> 782 | I19: =C19+E19+G19 -> 1434 | J19: =H19+I19 -> 2216 | K19: 0
A20: SOKOTO DOM | B20: 4037 | C20: 4172 | D20: 3453 | E20: 3635 | F20: 3657 | G20: 3378 | H20: =B20+D20+F20 -> 11147 | I20: =C20+E20+G20 -> 11185 | J20: =H20+I20 -> 22332 | K20: 17167 | L20: =(J20-K20)/K20*100 -> 30.086794
A21: INT | H21: =B21+D21+F21 -> 0 | I21: =C21+E21+G21 -> 0 | J21: =H21+I21 -> 0 | K21: 0
A22: KANO DOM | B22: 15714 | C22: 15889 | D22: 14862 | E22: 14930 | F22: 13918 | G22: 12891 | H22: =B22+D22+F22 -> 44494 | I22: =C22+E22+G22 -> 43710 | J22: =H22+I22 -> 88204 | K22: 58430 | L22: =(J22-K22)/K22*100 -> 50.9567
A23: INT | B23: 7152 | C23: 7066 | D23: 7474 | E23: 11922 | F23: 16085 | G23: 9168 | H23: =B23+D23+F23 -> 30711 | I23: =C23+E23+G23 -> 28156 | J23: =H23+I23 -> 58867 | K23: 60328 | L23: =(J23-K23)/K23*100 -> -2.421761
A24: MAID DOM | B24: 7079 | C24: 7016 | D24: 9321 | E24: 9789 | F24: 6660 | G24: 6460 | H24: =B24+D24+F24 -> 23060 | I24: =C24+E24+G24 -> 23265 | J24: =H24+I24 -> 46325 | K24: 33152 | L24: =(J24-K24)/K24*100 -> 39.735159
A25: INT | H25: =B25+D25+F25 -> 0 | I25: =C25+E25+G25 -> 0 | J25: =H25+I25 -> 0 | K25: 0
A26: MAKURDI | B26: 13 | C26: 20 | D26: 33 | E26: 20 | F26: 0 | G26: 0 | H26: =B26+D26+F26 -> 46 | I26: =C26+E26+G26 -> 40 | J26: =H26+I26 -> 86 | K26: 0
A27: INT
A28: MMIA DOM | B28: 159837 | C28: 156229 | D28: 147068 | E28: 147702 | F28: 133698 | G28: 139636 | H28: =B28+D28+F28 -> 440603 | I28: =C28+E28+G28 -> 443567 | J28: =H28+I28 -> 884170 | K28: 859306 | L28: =(J28-K28)/K28*100 -> 2.8934978
A29: INT | B29: 112431 | C29: 124047 | D29: 104797 | E29: 112244 | F29: 110310 | G29: 116855 | H29: =B29+D29+F29 -> 327538 | I29: =C29+E29+G29 -> 353146 | J29: =H29+I29 -> 680684 | K29: 692207 | L29: =(J29-K29)/K29*100 -> -1.6646755
A30: P.H. DOM | B30: 42559 | C30: 42076 | D30: 40555 | E30: 40644 | F30: 38705 | G30: 38065 | H30: =B30+D30+F30 -> 121819 | I30: =C30+E30+G30 -> 120785 | J30: =H30+I30 -> 242604 | K30: 199001 | L30: =(J30-K30)/K30*100 -> 21.910945
A31: INT | B31: 3448 | C31: 4376 | D31: 3592 | E31: 3492 | F31: 3142 | G31: 3682 | H31: =B31+D31+F31 -> 10182 | I31: =C31+E31+G31 -> 11550 | J31: =H31+I31 -> 21732 | K31: 20262 | L31: =(J31-K31)/K31*100 -> 7.25496
A32: YOLA DOM | B32: 7723 | C32: 7713 | D32: 6243 | E32: 7267 | F32: 5660 | G32: 5405 | H32: =B32+D32+F32 -> 19626 | I32: =C32+E32+G32 -> 20385 | J32: =H32+I32 -> 40011 | K32: 32735 | L32: =(J32-K32)/K32*100 -> 22.226974
A33: INT | H33: =B33+D33+F33 -> 0 | I33: =C33+E33+G33 -> 0 | J33: =H33+I33 -> 0 | K33: 0
A34: MINNA DOM | B34: 156 | C34: 156 | D34: 172 | E34: 165 | F34: 143 | G34: 159 | H34: =B34+D34+F34 -> 471 | I34: =C34+E34+G34 -> 480 | J34: =H34+I34 -> 951 | K34: 3794 | L34: =(J34-K34)/K34*100 -> -74.934106
A35: INT | H35: =B35+D35+F35 -> 0 | I35: =C35+E35+G35 -> 0 | J35: =H35+I35 -> 0 | K35: 0
A36: KATSINA | B36: 93 | C36: 149 | D36: 59 | E36: 59 | F36: 177 | G36: 173 | H36: =B36+D36+F36 -> 329 | I36: =C36+E36+G36 -> 381 | J36: =H36+I36 -> 710 | K36: 744 | L36: =(J36-K36)/K36*100 -> -4.5698925
A37: INT | H37: =B37+D37+F37 -> 0 | I37: =C37+E37+G37 -> 0 | J37: =H37+I37 -> 0 | K37: 0
A38: OWERRI | B38: 22683 | C38: 26236 | D38: 23646 | E38: 23800 | F38: 20628 | G38: 20060 | H38: =B38+D38+F38 -> 66957 | I38: =C38+E38+G38 -> 70096 | J38: =H38+I38 -> 137053 | K38: 88699 | L38: =(J38-K38)/K38*100 -> 54.514707
A39: OSUBI | H39: =B39+D39+F39 -> 0 | I39: =C39+E39+G39 -> 0 | J39: =H39+I39 -> 0 | K39: 39245
A40: TOTAL DOM | B40: =B39+B38+B36+B34+B32+B30+B28+B26+B24+B22+B20+B18+B16+B14+B13+B11+B9+B8+B7+B5 -> 473972 | C40: =C39+C38+C36+C34+C32+C30+C28+C26+C24+C22+C20+C18+C16+C14+C13+C11+C9+C8+C7+C5 -> 473805 | D40: =D39+D38+D36+D34+D32+D30+D28+D26+D24+D22+D20+D18+D16+D14+D13+D11+D9+D8+D7+D5 -> 451798 | E40: =E39+E38+E36+E34+E32+E30+E28+E26+E24+E22+E20+E18+E16+E14+E13+E11+E9+E8+E7+E5 -> 441533 | F40: =F39+F38+F36+F34+F32+F30+F28+F26+F24+F22+F20+F18+F16+F14+F13+F11+F9+F8+F7+F5 -> 406782 | G40: =G39+G38+G36+G34+G32+G30+G28+G26+G24+G22+G20+G18+G16+G14+G13+G11+G9+G8+G7+G5 -> 405800 | H40: =H39+H38+H36+H34+H32+H30+H28+H26+H24+H22+H20+H18+H16+H14+H13+H11+H9+H8+H7+H5 -> 1332552 | I40: =I39+I38+I36+I34+I32+I30+I28+I26+I24+I22+I20+I18+I16+I14+I13+I11+I9+I8+I7+I5 -> 1321138 | J40: =J39+J38+J36+J34+J32+J30+J28+J26+J24+J22+J20+J18+J16+J14+J13+J11+J9+J8+J7+J5 -> 2653690 | K40: 2247902 | L40: =(J40-K40)/K40*100 -> 18.051855
A41: TOTAL INT | B41: =B37+B35+B33+B31+B29+B25+B23+B21+B19+B15+B12+B10+B6+B17+B27 -> 164881 | C41: =C37+C35+C33+C31+C29+C25+C23+C21+C19+C15+C12+C10+C6 -> 178071 | D41: =D37+D35+D33+D31+D29+D25+D23+D21+D19+D15+D12+D10+D6 -> 154262 | E41: =E37+E35+E33+E31+E29+E25+E23+E21+E19+E15+E12+E10+E6 -> 167313 | F41: =F37+F35+F33+F31+F29+F25+F23+F21+F19+F15+F12+F10+F6 -> 168858 | G41: =G37+G35+G33+G31+G29+G25+G23+G21+G19+G15+G12+G10+G6 -> 170480 | H41: =H37+H35+H33+H31+H29+H25+H23+H21+H19+H15+H12+H10+H6 -> 488001 | I41: =I37+I35+I33+I31+I29+I25+I23+I21+I19+I15+I12+I10+I6 -> 515864 | J41: =J37+J35+J33+J31+J29+J25+J23+J21+J19+J15+J12+J10+J6 -> 1003865 | K41: 925923 | L41: =(J41-K41)/K41*100 -> 8.4177626
A42: GRAND TOTAL | B42: =B41+B40 -> 638853 | C42: =C41+C40 -> 651876 | D42: =D41+D40 -> 606060 | E42: =E41+E40 -> 608846 | F42: =F41+F40 -> 575640 | G42: =G41+G40 -> 576280 | H42: =H41+H40 -> 1820553 | I42: =I41+I40 -> 1837002 | J42: =J41+J40 -> 3657555 | K42: 3173825 | L42: =(J42-K42)/K42*100 -> 15.241231
A43: SOURCE: FAAN QUARTERLY STATISTICS
A46: FEDERAL AIRPORTS AUTHORITY OF NIGERIA
A47: PROVISIONAL AIRCRAFT TRAFFIC SECOND QUARTER 2018
A48: AIRPORT | B48: APRIL | D48: MAY | F48: JUNE | H48: TOTAL | J48: GRAND | K48: 2017 2ND QTR | L48: % DIFF 18&17
B49: ARRIVAL | C49: DEPARTURE | D49: ARRIVAL | E49: DEPARTURE | F49: ARRIVAL | G49: DEPARTURE | H49: ARRIVAL | I49: DEPARTURE | J49: TOTAL
A50: ABUJA DOM | B50: 2289 | C50: 2289 | D50: 2323 | E50: 2297 | F50: 1934 | G50: 1925 | H50: =B50+D50+F50 -> 6546 | I50: =C50+E50+G50 -> 6511 | J50: =H50+I50 -> 13057 | K50: 9458 | L50: =(J50-K50)/J50*100 -> 27.563759
A51: INT | B51: 397 | C51: 397 | D51: 456 | E51: 456 | F51: 423 | G51: 423 | H51: =B51+D51+F51 -> 1276 | I51: =C51+E51+G51 -> 1276 | J51: =H51+I51 -> 2552 | K51: 1458 | L51: =(J51-K51)/J51*100 -> 42.868339
A52: AKURE | B52: 87 | C52: 87 | D52: 87 | E52: 87 | F52: 97 | G52: 97 | H52: =B52+D52+F52 -> 271 | I52: =C52+E52+G52 -> 271 | J52: =H52+I52 -> 542 | K52: 234 | L52: =(J52-K52)/J52*100 -> 56.826568
A53: BENIN | B53: 207 | C53: 207 | D53: 214 | E53: 213 | F53: 170 | G53: 171 | H53: =B53+D53+F53 -> 591 | I53: =C53+E53+G53 -> 591 | J53: =H53+I53 -> 1182 | K53: 1092 | L53: =(J53-K53)/J53*100 -> 7.6142132
A54: CALABAR DOM | B54: 96 | C54: 96 | D54: 94 | E54: 94 | F54: 69 | G54: 69 | H54: =B54+D54+F54 -> 259 | I54: =C54+E54+G54 -> 259 | J54: =H54+I54 -> 518 | K54: 505 | L54: =(J54-K54)/J54*100 -> 2.5096525
A55: INT | H55: =B55+D55+F55 -> 0 | I55: =C55+E55+G55 -> 0 | J55: =H55+I55 -> 0 | K55: 0
A56: ENUGU DOM | B56: 153 | C56: 151 | D56: 174 | E56: 174 | F56: 139 | G56: 139 | H56: =B56+D56+F56 -> 466 | I56: =C56+E56+G56 -> 464 | J56: =H56+I56 -> 930 | K56: 1141 | L56: =(J56-K56)/J56*100 -> -22.688172
A57: INT | B57: 12 | C57: 12 | D57: 14 | E57: 14 | F57: 13 | G57: 13 | H57: =B57+D57+F57 -> 39 | I57: =C57+E57+G57 -> 39 | J57: =H57+I57 -> 78 | K57: 91 | L57: =(J57-K57)/J57*100 -> -16.666667
A58: IBADAN | B58: 84 | C58: 83 | D58: 58 | E58: 58 | F58: 55 | G58: 56 | H58: =B58+D58+F58 -> 197 | I58: =C58+E58+G58 -> 197 | J58: =H58+I58 -> 394 | K58: 434 | L58: =(J58-K58)/J58*100 -> -10.152284
A59: ILORIN DOM | B59: 109 | C59: 109 | D59: 98 | E59: 98 | F59: 105 | G59: 105 | H59: =B59+D59+F59 -> 312 | I59: =C59+E59+G59 -> 312 | J59: =H59+I59 -> 624 | K59: 672 | L59: =(J59-K59)/J59*100 -> -7.6923077
A60: INT | H60: =B60+D60+F60 -> 0 | I60: =C60+E60+G60 -> 0 | J60: =H60+I60 -> 0 | K60: 0
A61: JOS | B61: 44 | C61: 44 | D61: 54 | E61: 54 | F61: 52 | G61: 52 | H61: =B61+D61+F61 -> 150 | I61: =C61+E61+G61 -> 150 | J61: =H61+I61 -> 300 | K61: 232 | L61: =(J61-K61)/J61*100 -> 22.666667
A62: INT
A63: KADUNA DOM | B63: 123 | C63: 120 | D63: 97 | E63: 98 | F63: 82 | G63: 77 | H63: =B63+D63+F63 -> 302 | I63: =C63+E63+G63 -> 295 | J63: =H63+I63 -> 597 | K63: 2448 | L63: =(J63-K63)/J63*100 -> -310.05025
A64: INT | B64: 12 | C64: 12 | D64: 13 | E64: 11 | H64: =B64+D64+F64 -> 25 | I64: =C64+E64+G64 -> 23 | J64: =H64+I64 -> 48 | K64: 0
A65: SOKOTO DOM | B65: 73 | C65: 73 | D65: 69 | E65: 69 | F65: 82 | G65: 83 | H65: =B65+D65+F65 -> 224 | I65: =C65+E65+G65 -> 225 | J65: =H65+I65 -> 449 | K65: 404 | L65: =(J65-K65)/J65*100 -> 10.022272
A66: INT | H66: =B66+D66+F66 -> 0 | I66: =C66+E66+G66 -> 0 | J66: =H66+I66 -> 0 | K66: 0
A67: KANO DOM | B67: 253 | C67: 262 | D67: 263 | E67: 273 | F67: 239 | G67: 251 | H67: =B67+D67+F67 -> 755 | I67: =C67+E67+G67 -> 786 | J67: =H67+I67 -> 1541 | K67: 1050 | L67: =(J67-K67)/J67*100 -> 31.862427
A68: INT | B68: 104 | C68: 94 | D68: 127 | E68: 112 | F68: 139 | G68: 127 | H68: =B68+D68+F68 -> 370 | I68: =C68+E68+G68 -> 333 | J68: =H68+I68 -> 703 | K68: 529 | L68: =(J68-K68)/J68*100 -> 24.751067
A69: MAID DOM | B69: 306 | C69: 306 | D69: 417 | E69: 412 | F69: 376 | G69: 377 | H69: =B69+D69+F69 -> 1099 | I69: =C69+E69+G69 -> 1095 | J69: =H69+I69 -> 2194 | K69: 2425 | L69: =(J69-K69)/J69*100 -> -10.528715
A70: INT | H70: =B70+D70+F70 -> 0 | I70: =C70+E70+G70 -> 0 | J70: =H70+I70 -> 0 | K70: 0
A71: MAKURDI | B71: 4 | C71: 4 | D71: 3 | E71: 3 | F71: 0 | G71: 0 | H71: =B71+D71+F71 -> 7 | I71: =C71+E71+G71 -> 7 | J71: =H71+I71 -> 14 | K71: 0
A72: INT
A73: MMIA DOM | B73: 1750 | C73: 1756 | D73: 1596 | E73: 1603 | F73: 1548 | G73: 1549 | H73: =B73+D73+F73 -> 4894 | I73: =C73+E73+G73 -> 4908 | J73: =H73+I73 -> 9802 | K73: 15527 | L73: =(J73-K73)/J73*100 -> -58.406448
A74: INT | B74: 899 | C74: 889 | D74: 900 | E74: 886 | F74: 896 | G74: 899 | H74: =B74+D74+F74 -> 2695 | I74: =C74+E74+G74 -> 2674 | J74: =H74+I74 -> 5369 | K74: 6691 | L74: =(J74-K74)/J74*100 -> -24.622835
A75: P.H. DOM | B75: 571 | C75: 553 | D75: 533 | E75: 539 | F75: 500 | G75: 503 | H75: =B75+D75+F75 -> 1604 | I75: =C75+E75+G75 -> 1595 | J75: =H75+I75 -> 3199 | K75: 3902 | L75: =(J75-K75)/J75*100 -> -21.975617
A76: INT | B76: 72 | C76: 71 | D76: 88 | E76: 88 | F76: 66 | G76: 68 | H76: =B76+D76+F76 -> 226 | I76: =C76+E76+G76 -> 227 | J76: =H76+I76 -> 453 | K76: 459 | L76: =(J76-K76)/J76*100 -> -1.3245033
A77: YOLA DOM | B77: 91 | C77: 91 | D77: 120 | E77: 120 | F77: 100 | G77: 100 | H77: =B77+D77+F77 -> 311 | I77: =C77+E77+G77 -> 311 | J77: =H77+I77 -> 622 | K77: 643 | L77: =(J77-K77)/J77*100 -> -3.3762058
A78: INT | H78: =B78+D78+F78 -> 0 | I78: =C78+E78+G78 -> 0 | J78: =H78+I78 -> 0 | K78: 0
A79: MINNA DOM | B79: 24 | C79: 24 | D79: 25 | E79: 25 | F79: 28 | G79: 28 | H79: =B79+D79+F79 -> 77 | I79: =C79+E79+G79 -> 77 | J79: =H79+I79 -> 154 | K79: 419 | L79: =(J79-K79)/J79*100 -> -172.07792
A80: INT | H80: =B80+D80+F80 -> 0 | I80: =C80+E80+G80 -> 0 | J80: =H80+I80 -> 0 | K80: 0
A81: KATSINA | B81: 28 | C81: 28 | D81: 27 | E81: 27 | F81: 36 | G81: 36 | H81: =B81+D81+F81 -> 91 | I81: =C81+E81+G81 -> 91 | J81: =H81+I81 -> 182 | K81: 158 | L81: =(J81-K81)/J81*100 -> 13.186813
A82: INT | H82: =B82+D82+F82 -> 0 | I82: =C82+E82+G82 -> 0 | J82: =H82+I82 -> 0 | K82: 0
A83: OWERRI | B83: 273 | C83: 273 | D83: 289 | E83: 289 | F83: 267 | G83: 267 | H83: =B83+D83+F83 -> 829 | I83: =C83+E83+G83 -> 829 | J83: =H83+I83 -> 1658 | K83: 1262 | L83: =(J83-K83)/J83*100 -> 23.884198
A84: OSUBI | H84: =B84+D84+F84 -> 0 | I84: =C84+E84+G84 -> 0 | J84: =H84+I84 -> 0 | K84: 1270
A85: TOTAL DOM | B85: =B84+B83+B81+B79+B77+B75+B73+B71+B69+B67+B65+B63+B61+B59+B58+B56+B54+B53+B52+B50 -> 6565 | C85: =C84+C83+C81+C79+C77+C75+C73+C71+C69+C67+C65+C63+C61+C59+C58+C56+C54+C53+C52+C50 -> 6556 | D85: =D84+D83+D81+D79+D77+D75+D73+D71+D69+D67+D65+D63+D61+D59+D58+D56+D54+D53+D52+D50 -> 6541 | E85: =E84+E83+E81+E79+E77+E75+E73+E71+E69+E67+E65+E63+E61+E59+E58+E56+E54+E53+E52+E50 -> 6533 | F85: =F84+F83+F81+F79+F77+F75+F73+F71+F69+F67+F65+F63+F61+F59+F58+F56+F54+F53+F52+F50 -> 5879 | G85: =G84+G83+G81+G79+G77+G75+G73+G71+G69+G67+G65+G63+G61+G59+G58+G56+G54+G53+G52+G50 -> 5885 | H85: =B85+D85+F85 -> 18985 | I85: =C85+E85+G85 -> 18974 | J85: =H85+I85 -> 37959 | K85: 43276 | L85: =(J85-K85)/J85*100 -> -14.007218
A86: TOTAL INT | B86: =B82+B80+B78+B76+B74+B70+B68+B66+B64+B60+B55+B51+B62+B72+B57 -> 1496 | C86: =C82+C80+C78+C76+C74+C70+C68+C66+C64+C60+C55+C51+C62+C72+C57 -> 1475 | D86: =D82+D80+D78+D76+D74+D70+D68+D66+D64+D60+D55+D51+D62+D72+D57 -> 1598 | E86: =E82+E80+E78+E76+E74+E70+E68+E66+E64+E60+E55+E51+E62+E72+E57 -> 1567 | F86: =F82+F80+F78+F76+F74+F70+F68+F66+F64+F60+F55+F51+F62+F72+F57 -> 1537 | G86: =G82+G80+G78+G76+G74+G70+G68+G66+G64+G60+G55+G51+G62+G72+G57 -> 1530 | H86: =B86+D86+F86 -> 4631 | I86: =C86+E86+G86 -> 4572 | J86: =H86+I86 -> 9203 | K86: 9228 | L86: =(J86-K86)/J86*100 -> -0.27165055
A87: GRAND TOTAL | B87: =B86+B85 -> 8061 | C87: =C86+C85 -> 8031 | D87: =D86+D85 -> 8139 | E87: =E86+E85 -> 8100 | F87: =F86+F85 -> 7416 | G87: =G86+G85 -> 7415 | H87: =B87+D87+F87 -> 23616 | I87: =C87+E87+G87 -> 23546 | J87: =H87+I87 -> 47162 | K87: 52504 | L87: =(J87-K87)/J87*100 -> -11.326916
A88: SOURCE: FAAN QUARTERLY STATISTICS
A90: FEDERAL AIRPORTS AUTHORITY OF NIGERIA
A91: PROVISIONAL CARGO TRAFFIC (KG) SECOND QUARTER 2018
A92: AIRPORT | B92: APRIL | D92: MAY | F92: JUNE | H92: TOTAL | J92: GRAND | K92: 2017 2ND QTR | L92: % DIFF 18&17
B93: UNLOADED | C93: LOADED | D93: UNLOADED | E93: LOADED | F93: UNLOADED | G93: LOADED | H93: UNLOADED | I93: LOADED | J93: TOTAL
A94: ABUJA DOM | B94: 0 | C94: 0 | D94: 0 | E94: 0 | F94: 0 | G94: 0 | H94: =B94+D94+F94 -> 0 | I94: =C94+E94+G94 -> 0 | J94: =H94+I94 -> 0 | K94: 0
A95: INT | B95: 3106 | C95: 4711 | D95: 695 | E95: 426311 | F95: 6757 | G95: 481114.43 | H95: =B95+D95+F95 -> 10558 | I95: =C95+E95+G95 -> 912136.43 | J95: =H95+I95 -> 922694.43 | K95: 458430 | L95: =(J95-K95)/K95*100 -> 101.2727
A96: AKURE | B96: 0 | C96: 0 | D96: 0 | E96: 0 | F96: 0 | G96: 0 | H96: =B96+D96+F96 -> 0 | I96: =C96+E96+G96 -> 0 | J96: =H96+I96 -> 0 | K96: 0
A97: BENIN | B97: 0 | C97: 0 | D97: 0 | E97: 0 | F97: 0 | G97: 0 | H97: =B97+D97+F97 -> 0 | I97: =C97+E97+G97 -> 0 | J97: =H97+I97 -> 0 | K97: 0
A98: CALABAR DOM | B98: 0 | C98: 0 | D98: 0 | E98: 0 | F98: 0 | G98: 0 | H98: =B98+D98+F98 -> 0 | I98: =C98+E98+G98 -> 0 | J98: =H98+I98 -> 0 | K98: 0
A99: INT | B99: 0 | C99: 0 | D99: 0 | E99: 0 | F99: 0 | G99: 0 | H99: =B99+D99+F99 -> 0 | I99: =C99+E99+G99 -> 0 | J99: =H99+I99 -> 0 | K99: 0
A100: ENUGU | B100: 0 | C100: 0 | D100: 0 | E100: 0 | F100: 0 | G100: 0 | H100: =B100+D100+F100 -> 0 | I100: =C100+E100+G100 -> 0 | J100: =H100+I100 -> 0 | K100: 0
A101: INT | H101: =B101+D101+F101 -> 0 | I101: =C101+E101+G101 -> 0 | J101: =H101+I101 -> 0
A102: IBADAN | B102: 0 | C102: 0 | D102: 0 | E102: 0 | F102: 0 | G102: 0 | H102: =B102+D102+F102 -> 0 | I102: =C102+E102+G102 -> 0 | J102: =H102+I102 -> 0 | K102: 0
A103: ILORIN DOM | B103: 0 | C103: 0 | D103: 0 | E103: 0 | F103: 0 | G103: 0 | H103: =B103+D103+F103 -> 0 | I103: =C103+E103+G103 -> 0 | J103: =H103+I103 -> 0 | K103: 0
...

Sheet Half Year 2018
A1: FEDERAL AIRPORTS AUTHORITY OF NIGERIA
A2: 2018 Half Year PASSENGERS TRAFFIC
A3: AIRPORT | B3: IST QUARTER | D3: 2ND QUARTER | F3: 3RD QUARTER | H3: TOTAL
B4: ARRIVAL | C4: DEPARTURE | D4: ARRIVAL | E4: DEPARTURE | F4: ARRIVAL | G4: DEPARTURE | H4: ARRIVAL | I4: DEPARTURE | J4: GRAND TOTAL
A5: ABUJA DOM | B5: ='1ST QRT '!H5 -> 423494 | C5: ='1ST QRT '!I5 -> 398567 | D5: ='2ND QRT '!H5 -> 454465 | E5: ='2ND QRT '!I5 -> 434246 | H5: =B5+D5+F5 -> 877959 | I5: =C5+E5+G5 -> 832813 | J5: =H5+I5 -> 1710772
A6: INT | B6: ='1ST QRT '!H6 -> 99132 | C6: ='1ST QRT '!I6 -> 100713 | D6: ='2ND QRT '!H6 -> 113707 | E6: ='2ND QRT '!I6 -> 116128 | H6: =B6+D6+F6 -> 212839 | I6: =C6+E6+G6 -> 216841 | J6: =H6+I6 -> 429680
A7: AKURE | B7: ='1ST QRT '!H7 -> 4482 | C7: ='1ST QRT '!I7 -> 4512 | D7: ='2ND QRT '!H7 -> 6358 | E7: ='2ND QRT '!I7 -> 6070 | H7: =B7+D7+F7 -> 10840 | I7: =C7+E7+G7 -> 10582 | J7: =H7+I7 -> 21422
A8: BENIN | B8: ='1ST QRT '!H8 -> 34431 | C8: ='1ST QRT '!I8 -> 35090 | D8: ='2ND QRT '!H8 -> 39107 | E8: ='2ND QRT '!I8 -> 40040 | H8: =B8+D8+F8 -> 73538 | I8: =C8+E8+G8 -> 75130 | J8: =H8+I8 -> 148668
A9: CALABAR DOM | B9: ='1ST QRT '!H9 -> 17605 | C9: ='1ST QRT '!I9 -> 18240 | D9: ='2ND QRT '!H9 -> 21103 | E9: ='2ND QRT '!I9 -> 21479 | H9: =B9+D9+F9 -> 38708 | I9: =C9+E9+G9 -> 39719 | J9: =H9+I9 -> 78427
A10: INT | B10: ='1ST QRT '!H10 -> 0 | C10: ='1ST QRT '!I10 -> 0 | D10: ='2ND QRT '!H10 -> 0 | E10: ='2ND QRT '!I10 -> 0 | H10: =B10+D10+F10 -> 0 | I10: =C10+E10+G10 -> 0 | J10: =H10+I10 -> 0
A11: ENUGU | B11: ='1ST QRT '!H11 -> 33173 | C11: ='1ST QRT '!I11 -> 35206 | D11: ='2ND QRT '!H11 -> 40824 | E11: ='2ND QRT '!I11 -> 42822 | H11: =B11+D11+F11 -> 73997 | I11: =C11+E11+G11 -> 78028 | J11: =H11+I11 -> 152025
A12: ENUGU INT | B12: ='1ST QRT '!H12 -> 4571 | C12: ='1ST QRT '!I12 -> 6197 | D12: ='2ND QRT '!H12 -> 5081 | E12: ='2ND QRT '!I12 -> 5450 | H12: =B12+D12+F12 -> 9652 | I12: =C12+E12+G12 -> 11647 | J12: =H12+I12 -> 21299
A13: IBADAN | B13: ='1ST QRT '!H13 -> 7265 | C13: ='1ST QRT '!I13 -> 7321 | D13: ='2ND QRT '!H13 -> 7603 | E13: ='2ND QRT '!I13 -> 7825 | H13: =B13+D13+F13 -> 14868 | I13: =C13+E13+G13 -> 15146 | J13: =H13+I13 -> 30014
A14: ILORIN DOM | B14: ='1ST QRT '!H14 -> 10110 | C14: ='1ST QRT '!I14 -> 9799 | D14: ='2ND QRT '!H14 -> 10375 | E14: ='2ND QRT '!I14 -> 10439 | H14: =B14+D14+F14 -> 20485 | I14: =C14+E14+G14 -> 20238 | J14: =H14+I14 -> 40723
A15: INT | B15: ='1ST QRT '!H15 -> 0 | C15: ='1ST QRT '!I15 -> 0 | D15: ='2ND QRT '!H15 -> 0 | E15: ='2ND QRT '!I15 -> 0 | H15: =B15+D15+F15 -> 0 | I15: =C15+E15+G15 -> 0 | J15: =H15+I15 -> 0
A16: JOS DOM | B16: ='1ST QRT '!H16 -> 6430 | C16: ='1ST QRT '!I16 -> 6101 | D16: ='2ND QRT '!H16 -> 7720 | E16: ='2ND QRT '!I16 -> 7305 | H16: =B16+D16+F16 -> 14150 | I16: =C16+E16+G16 -> 13406 | J16: =H16+I16 -> 27556
A17: INT | B17: ='1ST QRT '!H17 -> 0 | C17: ='1ST QRT '!I17 -> 0 | D17: ='2ND QRT '!H17 -> 0 | E17: ='2ND QRT '!I17 -> 0 | J17: =H17+I17 -> 0
A18: KADUNA DOM | B18: ='1ST QRT '!H18 -> 13548 | C18: ='1ST QRT '!I18 -> 17018 | D18: ='2ND QRT '!H18 -> 16445 | E18: ='2ND QRT '!I18 -> 17018 | H18: =B18+D18+F18 -> 29993 | I18: =C18+E18+G18 -> 34036 | J18: =H18+I18 -> 64029
A19: INT | B19: ='1ST QRT '!H19 -> 0 | C19: ='1ST QRT '!I19 -> 0 | D19: ='2ND QRT '!H19 -> 782 | E19: ='2ND QRT '!I19 -> 1434 | H19: =B19+D19+F19 -> 782 | I19: =C19+E19+G19 -> 1434 | J19: =H19+I19 -> 2216
A20: SOKOTO DOM | B20: ='1ST QRT '!H20 -> 9875 | C20: ='1ST QRT '!I20 -> 9831 | D20: ='2ND QRT '!H20 -> 11147 | E20: ='2ND QRT '!I20 -> 11185 | H20: =B20+D20+F20 -> 21022 | I20: =C20+E20+G20 -> 21016 | J20: =H20+I20 -> 42038
A21: INT | B21: ='1ST QRT '!H21 -> 0 | C21: ='1ST QRT '!I21 -> 0 | D21: ='2ND QRT '!H21 -> 0 | E21: ='2ND QRT '!I21 -> 0 | H21: =B21+D21+F21 -> 0 | I21: =C21+E21+G21 -> 0 | J21: =H21+I21 -> 0
A22: KANO DOM | B22: ='1ST QRT '!H22 -> 38515 | C22: ='1ST QRT '!I22 -> 38302 | D22: ='2ND QRT '!H22 -> 44494 | E22: ='2ND QRT '!I22 -> 43710 | H22: =B22+D22+F22 -> 83009 | I22: =C22+E22+G22 -> 82012 | J22: =H22+I22 -> 165021
A23: INT | B23: ='1ST QRT '!H23 -> 19932 | C23: ='1ST QRT '!I23 -> 17535 | D23: ='2ND QRT '!H23 -> 30711 | E23: ='2ND QRT '!I23 -> 28156 | H23: =B23+D23+F23 -> 50643 | I23: =C23+E23+G23 -> 45691 | J23: =H23+I23 -> 96334
A24: MAID DOM | B24: ='1ST QRT '!H24 -> 21751 | C24: ='1ST QRT '!I24 -> 21451 | D24: ='2ND QRT '!H24 -> 23060 | E24: ='2ND QRT '!I24 -> 23265 | H24: =B24+D24+F24 -> 44811 | I24: =C24+E24+G24 -> 44716 | J24: =H24+I24 -> 89527
A25: INT | B25: ='1ST QRT '!H25 -> 0 | C25: ='1ST QRT '!I25 -> 0 | D25: ='2ND QRT '!H25 -> 0 | E25: ='2ND QRT '!I25 -> 0 | H25: =B25+D25+F25 -> 0 | I25: =C25+E25+G25 -> 0 | J25: =H25+I25 -> 0
A26: MAKURDI | B26: ='1ST QRT '!H26 -> 174 | C26: ='1ST QRT '!I26 -> 168 | D26: ='2ND QRT '!H26 -> 46 | E26: ='2ND QRT '!I26 -> 40 | H26: =B26+D26+F26 -> 220 | I26: =C26+E26+G26 -> 208 | J26: =H26+I26 -> 428
A27: INT | B27: ='1ST QRT '!H27 -> 0 | C27: ='1ST QRT '!I27 -> 0 | D27: ='2ND QRT '!H27 -> 0 | E27: ='2ND QRT '!I27 -> 0 | J27: =H27+I27 -> 0
A28: MMIA DOM | B28: ='1ST QRT '!H28 -> 526263 | C28: ='1ST QRT '!I28 -> 648680 | D28: ='2ND QRT '!H28 -> 440603 | E28: ='2ND QRT '!I28 -> 443567 | H28: =B28+D28+F28 -> 966866 | I28: =C28+E28+G28 -> 1092247 | J28: =H28+I28 -> 2059113
A29: INT | B29: ='1ST QRT '!H29 -> 406685 | C29: ='1ST QRT '!I29 -> 391369 | D29: ='2ND QRT '!H29 -> 327538 | E29: ='2ND QRT '!I29 -> 353146 | H29: =B29+D29+F29 -> 734223 | I29: =C29+E29+G29 -> 744515 | J29: =H29+I29 -> 1478738
A30: P.H. DOM | B30: ='1ST QRT '!H30 -> 118183 | C30: ='1ST QRT '!I30 -> 118147 | D30: ='2ND QRT '!H30 -> 121819 | E30: ='2ND QRT '!I30 -> 120785 | H30: =B30+D30+F30 -> 240002 | I30: =C30+E30+G30 -> 238932 | J30: =H30+I30 -> 478934
A31: INT | B31: ='1ST QRT '!H31 -> 10422 | C31: ='1ST QRT '!I31 -> 9842 | D31: ='2ND QRT '!H31 -> 10182 | E31: ='2ND QRT '!I31 -> 11550 | H31: =B31+D31+F31 -> 20604 | I31: =C31+E31+G31 -> 21392 | J31: =H31+I31 -> 41996
A32: YOLA DOM | B32: ='1ST QRT '!H32 -> 17185 | C32: ='1ST QRT '!I32 -> 18539 | D32: ='2ND QRT '!H32 -> 19626 | E32: ='2ND QRT '!I32 -> 20385 | H32: =B32+D32+F32 -> 36811 | I32: =C32+E32+G32 -> 38924 | J32: =H32+I32 -> 75735
A33: INT | B33: ='1ST QRT '!H33 -> 0 | C33: ='1ST QRT '!I33 -> 0 | D33: ='2ND QRT '!H33 -> 0 | E33: ='2ND QRT '!I33 -> 0 | H33: =B33+D33+F33 -> 0 | I33: =C33+E33+G33 -> 0 | J33: =H33+I33 -> 0
A34: MINNA DOM | B34: ='1ST QRT '!H34 -> 0 | C34: ='1ST QRT '!I34 -> 0 | D34: ='2ND QRT '!H34 -> 471 | E34: ='2ND QRT '!I34 -> 480 | H34: =B34+D34+F34 -> 471 | I34: =C34+E34+G34 -> 480 | J34: =H34+I34 -> 951
A35: INT | B35: ='1ST QRT '!H35 -> 0 | C35: ='1ST QRT '!I35 -> 0 | D35: ='2ND QRT '!H35 -> 0 | E35: ='2ND QRT '!I35 -> 0 | H35: =B35+D35+F35 -> 0 | I35: =C35+E35+G35 -> 0 | J35: =H35+I35 -> 0
A36: KATSINA | B36: ='1ST QRT '!H36 -> 232 | C36: ='1ST QRT '!I36 -> 213 | D36: ='2ND QRT '!H36 -> 329 | E36: ='2ND QRT '!I36 -> 381 | H36: =B36+D36+F36 -> 561 | I36: =C36+E36+G36 -> 594 | J36: =H36+I36 -> 1155
A37: INT | B37: ='1ST QRT '!H37 -> 0 | C37: ='1ST QRT '!I37 -> 0 | D37: ='2ND QRT '!H37 -> 0 | E37: ='2ND QRT '!I37 -> 0 | H37: =B37+D37+F37 -> 0 | I37: =C37+E37+G37 -> 0 | J37: =H37+I37 -> 0
A38: OWERRI | B38: ='1ST QRT '!H38 -> 52512 | C38: ='1ST QRT '!I38 -> 57042 | D38: ='2ND QRT '!H38 -> 66957 | E38: ='2ND QRT '!I38 -> 70096 | H38: =B38+D38+F38 -> 119469 | I38: =C38+E38+G38 -> 127138 | J38: =H38+I38 -> 246607
A39: OSUBI | B39: ='1ST QRT '!H39 -> 0 | C39: ='1ST QRT '!I39 -> 0 | D39: ='2ND QRT '!H39 -> 0 | E39: ='2ND QRT '!I39 -> 0 | H39: =B39+D39+F39 -> 0 | I39: =C39+E39+G39 -> 0 | J39: =H39+I39 -> 0
A40: TOTAL DOM | B40: =B39+B38+B36+B34+B32+B30+B28+B26+B24+B22+B20+B18+B16+B14+B13+B11+B9+B8+B7+B5 -> 1335228 | C40: =C39+C38+C36+C34+C32+C30+C28+C26+C24+C22+C20+C18+C16+C14+C13+C11+C9+C8+C7+C5 -> 1444227 | D40: =D39+D38+D36+D34+D32+D30+D28+D26+D24+D22+D20+D18+D16+D14+D13+D11+D9+D8+D7+D5 -> 1332552 | E40: =E39+E38+E36+E34+E32+E30+E28+E26+E24+E22+E20+E18+E16+E14+E13+E11+E9+E8+E7+E5 -> 1321138 | F40: =F39+F38+F36+F34+F32+F30+F28+F26+F24+F22+F20+F18+F16+F14+F13+F11+F9+F8+F7+F5 -> 0 | G40: =G39+G38+G36+G34+G32+G30+G28+G26+G24+G22+G20+G18+G16+G14+G13+G11+G9+G8+G7+G5 -> 0 | H40: =H39+H38+H36+H34+H32+H30+H28+H26+H24+H22+H20+H18+H16+H14+H13+H11+H9+H8+H7+H5 -> 2667780 | I40: =I39+I38+I36+I34+I32+I30+I28+I26+I24+I22+I20+I18+I16+I14+I13+I11+I9+I8+I7+I5 -> 2765365 | J40: =H40+I40 -> 5433145
A41: TOTAL INT | B41: =B37+B35+B33+B31+B29+B25+B23+B21+B19+B15+B12+B10+B6+B17+B27 -> 540742 | C41: =C37+C35+C33+C31+C29+C25+C23+C21+C19+C15+C12+C10+C6 -> 525656 | D41: =D37+D35+D33+D31+D29+D25+D23+D21+D19+D15+D12+D10+D6 -> 488001 | E41: =E37+E35+E33+E31+E29+E25+E23+E21+E19+E15+E12+E10+E6 -> 515864 | F41: =F37+F35+F33+F31+F29+F25+F23+F21+F19+F15+F12+F10+F6 -> 0 | G41: =G37+G35+G33+G31+G29+G25+G23+G21+G19+G15+G12+G10+G6 -> 0 | H41: =H37+H35+H33+H31+H29+H25+H23+H21+H19+H15+H12+H10+H6 -> 1028743 | I41: =I37+I35+I33+I31+I29+I25+I23+I21+I19+I15+I12+I10+I6 -> 1041520 | J41: =H41+I41 -> 2070263
A42: GRAND TOTAL | B42: =B41+B40 -> 1875970 | C42: =C41+C40 -> 1969883 | D42: =D41+D40 -> 1820553 | E42: =E41+E40 -> 1837002 | F42: =F41+F40 -> 0 | G42: =G41+G40 -> 0 | H42: =H41+H40 -> 3696523 | I42: =I41+I40 -> 3806885 | J42: =H42+I42 -> 7503408
A43: SOURCE: FAAN QUARTERLY STATISTICS
A47: 2018 Half Year Aircraft TRAFFIC
A48: AIRPORT | B48: IST QUARTER | D48: 2ND QUARTER | F48: 3RD QUARTER | H48: TOTAL
B49: ARRIVAL | C49: DEPARTURE | D49: ARRIVAL | E49: DEPARTURE | F49: ARRIVAL | G49: DEPARTURE | H49: ARRIVAL | I49: DEPARTURE
A50: ABUJA DOM | B50: ='1ST QRT '!H55 -> 7064 | C50: ='1ST QRT '!I55 -> 7046 | D50: ='2ND QRT '!H50 -> 6546 | E50: ='2ND QRT '!I50 -> 6511 | H50: =B50+D50+F50 -> 13610 | I50: =C50+E50+G50 -> 13557
A51: INT | B51: ='1ST QRT '!H56 -> 1147 | C51: ='1ST QRT '!I56 -> 1145 | D51: ='2ND QRT '!H51 -> 1276 | E51: ='2ND QRT '!I51 -> 1276 | H51: =B51+D51+F51 -> 2423 | I51: =C51+E51+G51 -> 2421
A52: AKURE | B52: ='1ST QRT '!H57 -> 214 | C52: ='1ST QRT '!I57 -> 214 | D52: ='2ND QRT '!H52 -> 271 | E52: ='2ND QRT '!I52 -> 271 | H52: =B52+D52+F52 -> 485 | I52: =C52+E52+G52 -> 485
A53: BENIN | B53: ='1ST QRT '!H58 -> 532 | C53: ='1ST QRT '!I58 -> 532 | D53: ='2ND QRT '!H53 -> 591 | E53: ='2ND QRT '!I53 -> 591 | H53: =B53+D53+F53 -> 1123 | I53: =C53+E53+G53 -> 1123
A54: CALABAR DOM | B54: ='1ST QRT '!H59 -> 234 | C54: ='1ST QRT '!I59 -> 235 | D54: ='2ND QRT '!H54 -> 259 | E54: ='2ND QRT '!I54 -> 259 | H54: =B54+D54+F54 -> 493 | I54: =C54+E54+G54 -> 494
A55: INT | B55: ='1ST QRT '!H60 -> 0 | C55: ='1ST QRT '!I60 -> 0 | D55: ='2ND QRT '!H55 -> 0 | E55: ='2ND QRT '!I55 -> 0 | H55: =B55+D55+F55 -> 0 | I55: =C55+E55+G55 -> 0
A56: ENUGU DOM | B56: ='1ST QRT '!H61 -> 493 | C56: ='1ST QRT '!I61 -> 490 | D56: ='2ND QRT '!H56 -> 466 | E56: ='2ND QRT '!I56 -> 464 | H56: =B56+D56+F56 -> 959 | I56: =C56+E56+G56 -> 954
A57: INT | B57: ='1ST QRT '!H62 -> 36 | C57: ='1ST QRT '!I62 -> 36 | D57: ='2ND QRT '!H57 -> 39 | E57: ='2ND QRT '!I57 -> 39 | H57: =B57+D57+F57 -> 75 | I57: =C57+E57+G57 -> 75
A58: IBADAN | B58: ='1ST QRT '!H63 -> 241 | C58: ='1ST QRT '!I63 -> 240 | D58: ='2ND QRT '!H58 -> 197 | E58: ='2ND QRT '!I58 -> 197 | H58: =B58+D58+F58 -> 438 | I58: =C58+E58+G58 -> 437
A59: ILORIN DOM | B59: ='1ST QRT '!H64 -> 300 | C59: ='1ST QRT '!I64 -> 300 | D59: ='2ND QRT '!H59 -> 312 | E59: ='2ND QRT '!I59 -> 312 | H59: =B59+D59+F59 -> 612 | I59: =C59+E59+G59 -> 612
A60: INT | B60: ='1ST QRT '!H65 -> 0 | C60: ='1ST QRT '!I65 -> 0 | D60: ='2ND QRT '!H60 -> 0 | E60: ='2ND QRT '!I60 -> 0 | H60: =B60+D60+F60 -> 0 | I60: =C60+E60+G60 -> 0
A61: JOS | B61: ='1ST QRT '!H66 -> 141 | C61: ='1ST QRT '!I66 -> 141 | D61: ='2ND QRT '!H61 -> 150 | E61: ='2ND QRT '!I61 -> 150 | H61: =B61+D61+F61 -> 291 | I61: =C61+E61+G61 -> 291
A62: INT | B62: ='1ST QRT '!H67 -> 0 | C62: ='1ST QRT '!I67 -> 0 | D62: ='2ND QRT '!H62 -> 0 | E62: ='2ND QRT '!I62 -> 0
A63: KADUNA DOM | B63: ='1ST QRT '!H68 -> 329 | C63: ='1ST QRT '!I68 -> 327 | D63: ='2ND QRT '!H63 -> 302 | E63: ='2ND QRT '!I63 -> 295 | H63: =B63+D63+F63 -> 631 | I63: =C63+E63+G63 -> 622
A64: INT | B64: ='1ST QRT '!H69 -> 0 | C64: ='1ST QRT '!I69 -> 0 | D64: ='2ND QRT '!H64 -> 25 | E64: ='2ND QRT '!I64 -> 23 | H64: =B64+D64+F64 -> 25 | I64: =C64+E64+G64 -> 23
A65: SOKOTO DOM | B65: ='1ST QRT '!H70 -> 214 | C65: ='1ST QRT '!I70 -> 214 | D65: ='2ND QRT '!H65 -> 224 | E65: ='2ND QRT '!I65 -> 225 | H65: =B65+D65+F65 -> 438 | I65: =C65+E65+G65 -> 439
A66: INT | B66: ='1ST QRT '!H71 -> 0 | C66: ='1ST QRT '!I71 -> 0 | D66: ='2ND QRT '!H66 -> 0 | E66: ='2ND QRT '!I66 -> 0 | H66: =B66+D66+F66 -> 0 | I66: =C66+E66+G66 -> 0
A67: KANO DOM | B67: ='1ST QRT '!H72 -> 713 | C67: ='1ST QRT '!I72 -> 723 | D67: ='2ND QRT '!H67 -> 755 | E67: ='2ND QRT '!I67 -> 786 | H67: =B67+D67+F67 -> 1468 | I67: =C67+E67+G67 -> 1509
A68: INT | B68: ='1ST QRT '!H73 -> 242 | C68: ='1ST QRT '!I73 -> 231 | D68: ='2ND QRT '!H68 -> 370 | E68: ='2ND QRT '!I68 -> 333 | H68: =B68+D68+F68 -> 612 | I68: =C68+E68+G68 -> 564
A69: MAID DOM | B69: ='1ST QRT '!H74 -> 1279 | C69: ='1ST QRT '!I74 -> 1284 | D69: ='2ND QRT '!H69 -> 1099 | E69: ='2ND QRT '!I69 -> 1095 | H69: =B69+D69+F69 -> 2378 | I69: =C69+E69+G69 -> 2379
A70: INT | B70: ='1ST QRT '!H75 -> 0 | C70: ='1ST QRT '!I75 -> 0 | D70: ='2ND QRT '!H70 -> 0 | E70: ='2ND QRT '!I70 -> 0 | H70: =B70+D70+F70 -> 0 | I70: =C70+E70+G70 -> 0
A71: MAKURDI | B71: ='1ST QRT '!H76 -> 31 | C71: ='1ST QRT '!I76 -> 30 | D71: ='2ND QRT '!H71 -> 7 | E71: ='2ND QRT '!I71 -> 7 | H71: =B71+D71+F71 -> 38 | I71: =C71+E71+G71 -> 37
A72: INT | B72: ='1ST QRT '!H77 -> 0 | C72: ='1ST QRT '!I77 -> 0 | D72: ='2ND QRT '!H72 -> 0 | E72: ='2ND QRT '!I72 -> 0
A73: MMIA DOM | B73: ='1ST QRT '!H78 -> 5362 | C73: ='1ST QRT '!I78 -> 5368 | D73: ='2ND QRT '!H73 -> 4894 | E73: ='2ND QRT '!I73 -> 4908 | H73: =B73+D73+F73 -> 10256 | I73: =C73+E73+G73 -> 10276
A74: INT | B74: ='1ST QRT '!H79 -> 2565 | C74: ='1ST QRT '!I79 -> 2571 | D74: ='2ND QRT '!H74 -> 2695 | E74: ='2ND QRT '!I74 -> 2674 | H74: =B74+D74+F74 -> 5260 | I74: =C74+E74+G74 -> 5245
A75: P.H. DOM | B75: ='1ST QRT '!H80 -> 2324 | C75: ='1ST QRT '!I80 -> 2328 | D75: ='2ND QRT '!H75 -> 1604 | E75: ='2ND QRT '!I75 -> 1595 | H75: =B75+D75+F75 -> 3928 | I75: =C75+E75+G75 -> 3923
A76: INT | B76: ='1ST QRT '!H81 -> 143 | C76: ='1ST QRT '!I81 -> 144 | D76: ='2ND QRT '!H76 -> 226 | E76: ='2ND QRT '!I76 -> 227 | H76: =B76+D76+F76 -> 369 | I76: =C76+E76+G76 -> 371
A77: YOLA DOM | B77: ='1ST QRT '!H82 -> 327 | C77: ='1ST QRT '!I82 -> 327 | D77: ='2ND QRT '!H77 -> 311 | E77: ='2ND QRT '!I77 -> 311 | H77: =B77+D77+F77 -> 638 | I77: =C77+E77+G77 -> 638
A78: INT | B78: ='1ST QRT '!H83 -> 0 | C78: ='1ST QRT '!I83 -> 0 | D78: ='2ND QRT '!H78 -> 0 | E78: ='2ND QRT '!I78 -> 0 | H78: =B78+D78+F78 -> 0 | I78: =C78+E78+G78 -> 0
A79: MINNA DOM | B79: ='1ST QRT '!H84 -> 0 | C79: ='1ST QRT '!I84 -> 0 | D79: ='2ND QRT '!H79 -> 77 | E79: ='2ND QRT '!I79 -> 77 | H79: =B79+D79+F79 -> 77 | I79: =C79+E79+G79 -> 77
A80: INT | B80: ='1ST QRT '!H85 -> 0 | C80: ='1ST QRT '!I85 -> 0 | D80: ='2ND QRT '!H80 -> 0 | E80: ='2ND QRT '!I80 -> 0 | H80: =B80+D80+F80 -> 0 | I80: =C80+E80+G80 -> 0
A81: KATSINA | B81: ='1ST QRT '!H86 -> 77 | C81: ='1ST QRT '!I86 -> 77 | D81: ='2ND QRT '!H81 -> 91 | E81: ='2ND QRT '!I81 -> 91 | H81: =B81+D81+F81 -> 168 | I81: =C81+E81+G81 -> 168
A82: INT | B82: ='1ST QRT '!H87 -> 0 | C82: ='1ST QRT '!I87 -> 0 | D82: ='2ND QRT '!H82 -> 0 | E82: ='2ND QRT '!I82 -> 0 | H82: =B82+D82+F82 -> 0 | I82: =C82+E82+G82 -> 0
A83: OWERRI | B83: ='1ST QRT '!H88 -> 743 | C83: ='1ST QRT '!I88 -> 743 | D83: ='2ND QRT '!H83 -> 829 | E83: ='2ND QRT '!I83 -> 829 | H83: =B83+D83+F83 -> 1572 | I83: =C83+E83+G83 -> 1572
A84: OSUBI | B84: ='1ST QRT '!H89 -> 0 | C84: ='1ST QRT '!I89 -> 0 | D84: ='2ND QRT '!H84 -> 0 | E84: ='2ND QRT '!I84 -> 0 | H84: =B84+D84+F84 -> 0 | I84: =C84+E84+G84 -> 0
A85: TOTAL DOM | B85: =B84+B83+B81+B79+B77+B75+B73+B71+B69+B67+B65+B63+B61+B59+B58+B56+B54+B53+B52+B50 -> 20618 | C85: =C84+C83+C81+C79+C77+C75+C73+C71+C69+C67+C65+C63+C61+C59+C58+C56+C54+C53+C52+C50 -> 20619 | D85: =D84+D83+D81+D79+D77+D75+D73+D71+D69+D67+D65+D63+D61+D59+D58+D56+D54+D53+D52+D50 -> 18985 | E85: =E84+E83+E81+E79+E77+E75+E73+E71+E69+E67+E65+E63+E61+E59+E58+E56+E54+E53+E52+E50 -> 18974 | F85: =F84+F83+F81+F79+F77+F75+F73+F71+F69+F67+F65+F63+F61+F59+F58+F56+F54+F53+F52+F50 -> 0 | G85: =G84+G83+G81+G79+G77+G75+G73+G71+G69+G67+G65+G63+G61+G59+G58+G56+G54+G53+G52+G50 -> 0 | H85: =B85+D85+F85 -> 39603 | I85: =C85+E85+G85 -> 39593
A86: TOTAL INT | B86: =B82+B80+B78+B76+B74+B70+B68+B66+B64+B60+B55+B51+B62+B72+B57 -> 4133 | C86: =C82+C80+C78+C76+C74+C70+C68+C66+C64+C60+C55+C51+C62+C72+C57 -> 4127 | D86: =D82+D80+D78+D76+D74+D70+D68+D66+D64+D60+D55+D51+D62+D72+D57 -> 4631 | E86: =E82+E80+E78+E76+E74+E70+E68+E66+E64+E60+E55+E51+E62+E72+E57 -> 4572 | F86: =F82+F80+F78+F76+F74+F70+F68+F66+F64+F60+F55+F51+F62+F72+F57 -> 0 | G86: =G82+G80+G78+G76+G74+G70+G68+G66+G64+G60+G55+G51+G62+G72+G57 -> 0 | H86: =B86+D86+F86 -> 8764 | I86: =C86+E86+G86 -> 8699
A87: GRAND TOTAL | B87: =B86+B85 -> 24751 | C87: =C86+C85 -> 24746 | D87: =D86+D85 -> 23616 | E87: =E86+E85 -> 23546 | F87: =F86+F85 -> 0 | G87: =G86+G85 -> 0 | H87: =B87+D87+F87 -> 48367 | I87: =C87+E87+G87 -> 48292
A88: SOURCE: FAAN QUARTERLY STATISTICS
A90: FEDERAL AIRPORTS AUTHORITY OF NIGERIA
A91: 2018 Half Year CARGO TRAFFIC (KG)
A92: AIRPORT | B92: 1ST QUARTER | D92: 2ND QUARTER | F92: 3RD QUARTER | H92: TOTAL
B93: UNLOADED | C93: LOADED | D93: UNLOADED | E93: LOADED | F93: UNLOADED | G93: LOADED | H93: UNLOADED | I93: LOADED
A94: ABUJA DOM | B94: ='1ST QRT '!H105 -> 0 | C94: ='1ST QRT '!I105 -> 0 | D94: ='2ND QRT '!H94 -> 0 | E94: ='2ND QRT '!I94 -> 0 | F94: 0 | G94: 0 | H94: =B94+D94+F94 -> 0 | I94: =C94+E94+G94 -> 0
A95: INT | B95: ='1ST QRT '!H106 -> 29224 | C95: ='1ST QRT '!I106 -> 798464.25 | D95: ='2ND QRT '!H95 -> 10558 | E95: ='2ND QRT '!I95 -> 912136.43 | H95: =B95+D95+F95 -> 39782 | I95: =C95+E95+G95 -> 1710600.7
A96: AKURE | B96: ='1ST QRT '!H107 -> 0 | C96: ='1ST QRT '!I107 -> 0 | D96: ='2ND QRT '!H96 -> 0 | E96: ='2ND QRT '!I96 -> 0 | H96: =B96+D96+F96 -> 0 | I96: =C96+E96+G96 -> 0
A97: BENIN | B97: ='1ST QRT '!H108 -> 0 | C97: ='1ST QRT '!I108 -> 0 | D97: ='2ND QRT '!H97 -> 0 | E97: ='2ND QRT '!I97 -> 0 | H97: =B97+D97+F97 -> 0 | I97: =C97+E97+G97 -> 0
A98: CALABAR DOM | B98: ='1ST QRT '!H109 -> 0 | C98: ='1ST QRT '!I109 -> 0 | D98: ='2ND QRT '!H98 -> 0 | E98: ='2ND QRT '!I98 -> 0 | H98: =B98+D98+F98 -> 0 | I98: =C98+E98+G98 -> 0
A99: INT | B99: ='1ST QRT '!H110 -> 0 | C99: ='1ST QRT '!I110 -> 0 | D99: ='2ND QRT '!H99 -> 0 | E99: ='2ND QRT '!I99 -> 0 | H99: =B99+D99+F99 -> 0 | I99: =C99+E99+G99 -> 0
A100: ENUGU | B100: ='1ST QRT '!H111 -> 0 | C100: ='1ST QRT '!I111 -> 0 | D100: ='2ND QRT '!H100 -> 0 | E100: ='2ND QRT '!I100 -> 0 | H100: =B100+D100+F100 -> 0 | I100: =C100+E100+G100 -> 0
A101: INT | B101: ='1ST QRT '!H112 -> 0 | C101: ='1ST QRT '!I112 -> 0 | D101: ='2ND QRT '!H101 -> 0 | E101: ='2ND QRT '!I101 -> 0 | H101: =B101+D101+F101 -> 0 | I101: =C101+E101+G101 -> 0
A102: IBADAN | B102: ='1ST QRT '!H113 -> 0 | C102: ='1ST QRT '!I113 -> 0 | D102: ='2ND QRT '!H102 -> 0 | E102: ='2ND QRT '!I102 -> 0 | H102: =B102+D102+F102 -> 0 | I102: =C102+E102+G102 -> 0
A103: ILORIN DOM | B103: ='1ST QRT '!H114 -> 0 | C103: ='1ST QRT '!I114 -> 0 | D103: ='2ND QRT '!H103 -> 0 | E103: ='2ND QRT '!I103 -> 0 | H103: =B103+D103+F103 -> 0 | I103: =C103+E103+G103 -> 0
A104: INT | B104: ='1ST QRT '!H115 -> 0 | C104: ='1ST QRT '!I115 -> 0 | D104: ='2ND QRT '!H104 -> 0 | E104: ='2ND QRT '!I104 -> 0 | H104: =B104+D104+F104 -> 0 | I104: =C104+E104+G104 -> 0
...
